BEGIN:VCALENDAR
VERSION:2.0
PRODID:-//Canadian Rare Disease Network - ECPv6.15.20//NONSGML v1.0//EN
CALSCALE:GREGORIAN
METHOD:PUBLISH
X-ORIGINAL-URL:https://canadianrdn.ca
X-WR-CALDESC:Events for Canadian Rare Disease Network
REFRESH-INTERVAL;VALUE=DURATION:PT1H
X-Robots-Tag:noindex
X-PUBLISHED-TTL:PT1H
BEGIN:VTIMEZONE
TZID:America/New_York
BEGIN:DAYLIGHT
TZOFFSETFROM:-0500
TZOFFSETTO:-0400
TZNAME:EDT
DTSTART:20240310T070000
END:DAYLIGHT
BEGIN:STANDARD
TZOFFSETFROM:-0400
TZOFFSETTO:-0500
TZNAME:EST
DTSTART:20241103T060000
END:STANDARD
BEGIN:DAYLIGHT
TZOFFSETFROM:-0500
TZOFFSETTO:-0400
TZNAME:EDT
DTSTART:20250309T070000
END:DAYLIGHT
BEGIN:STANDARD
TZOFFSETFROM:-0400
TZOFFSETTO:-0500
TZNAME:EST
DTSTART:20251102T060000
END:STANDARD
BEGIN:DAYLIGHT
TZOFFSETFROM:-0500
TZOFFSETTO:-0400
TZNAME:EDT
DTSTART:20260308T070000
END:DAYLIGHT
BEGIN:STANDARD
TZOFFSETFROM:-0400
TZOFFSETTO:-0500
TZNAME:EST
DTSTART:20261101T060000
END:STANDARD
END:VTIMEZONE
BEGIN:VTIMEZONE
TZID:America/Denver
BEGIN:DAYLIGHT
TZOFFSETFROM:-0700
TZOFFSETTO:-0600
TZNAME:MDT
DTSTART:20240310T090000
END:DAYLIGHT
BEGIN:STANDARD
TZOFFSETFROM:-0600
TZOFFSETTO:-0700
TZNAME:MST
DTSTART:20241103T080000
END:STANDARD
BEGIN:DAYLIGHT
TZOFFSETFROM:-0700
TZOFFSETTO:-0600
TZNAME:MDT
DTSTART:20250309T090000
END:DAYLIGHT
BEGIN:STANDARD
TZOFFSETFROM:-0600
TZOFFSETTO:-0700
TZNAME:MST
DTSTART:20251102T080000
END:STANDARD
BEGIN:DAYLIGHT
TZOFFSETFROM:-0700
TZOFFSETTO:-0600
TZNAME:MDT
DTSTART:20260308T090000
END:DAYLIGHT
BEGIN:STANDARD
TZOFFSETFROM:-0600
TZOFFSETTO:-0700
TZNAME:MST
DTSTART:20261101T080000
END:STANDARD
END:VTIMEZONE
BEGIN:VTIMEZONE
TZID:Europe/Paris
BEGIN:DAYLIGHT
TZOFFSETFROM:+0100
TZOFFSETTO:+0200
TZNAME:CEST
DTSTART:20240331T010000
END:DAYLIGHT
BEGIN:STANDARD
TZOFFSETFROM:+0200
TZOFFSETTO:+0100
TZNAME:CET
DTSTART:20241027T010000
END:STANDARD
BEGIN:DAYLIGHT
TZOFFSETFROM:+0100
TZOFFSETTO:+0200
TZNAME:CEST
DTSTART:20250330T010000
END:DAYLIGHT
BEGIN:STANDARD
TZOFFSETFROM:+0200
TZOFFSETTO:+0100
TZNAME:CET
DTSTART:20251026T010000
END:STANDARD
BEGIN:DAYLIGHT
TZOFFSETFROM:+0100
TZOFFSETTO:+0200
TZNAME:CEST
DTSTART:20260329T010000
END:DAYLIGHT
BEGIN:STANDARD
TZOFFSETFROM:+0200
TZOFFSETTO:+0100
TZNAME:CET
DTSTART:20261025T010000
END:STANDARD
END:VTIMEZONE
BEGIN:VEVENT
DTSTART;TZID=America/New_York:20250227T190000
DTEND;TZID=America/New_York:20250227T210000
DTSTAMP:20260424T101550
CREATED:20250219T015721Z
LAST-MODIFIED:20250219T015721Z
UID:7501-1740682800-1740690000@canadianrdn.ca
SUMMARY:Rare Moments: Virtual Storytelling Evening
DESCRIPTION:Don’t miss Rare Moments: Virtual Storytelling Evening\n📅 February 27 @ 7:00 p.m. ET\nRegister: https://bit.ly/4ht5Ox9 \nIt will be an inspiring evening of storytelling as families from across #Canada come together to share their experiences living with Duchenne #musculardystrophy.
URL:https://canadianrdn.ca/event/rare-moments-virtual-storytelling-evening/
CATEGORIES:Caregiver,Events,Patient Focused,Research Focused,Virtual,Webinars
END:VEVENT
BEGIN:VEVENT
DTSTART;TZID=America/Denver:20250228T080000
DTEND;TZID=America/Denver:20250228T160000
DTSTAMP:20260424T101550
CREATED:20250219T015433Z
LAST-MODIFIED:20250219T015433Z
UID:7498-1740729600-1740758400@canadianrdn.ca
SUMMARY:Rare Disease Day 2025 University of Alberta
DESCRIPTION:
URL:https://canadianrdn.ca/event/rare-disease-day-2025-university-of-alberta/
CATEGORIES:Events,In Person,Patient Focused,Policy,Provincial,Research Focused
END:VEVENT
BEGIN:VEVENT
DTSTART;TZID=America/New_York:20250228T090000
DTEND;TZID=America/New_York:20250228T130000
DTSTAMP:20260424T101550
CREATED:20250225T041117Z
LAST-MODIFIED:20250225T041117Z
UID:7560-1740733200-1740747600@canadianrdn.ca
SUMMARY:Rare Disease Day and World Birth Defects Symposium
DESCRIPTION:Join on February 28\, 2025\, for the Rare Disease Day and World Birth Deficit Symposium\, an event dedicated to raising awareness and fostering meaningful discussions on the challenges faced by individuals and families affected by rare diseases. This symposium will bring together patients\, caregivers\, healthcare professionals\, and community advocates to share experiences\, promote equity\, and drive change.
URL:https://canadianrdn.ca/event/rare-disease-day-and-world-birth-defects-symposium/
CATEGORIES:Events,Hybrid,Patient Focused,Provincial,Research Focused
END:VEVENT
BEGIN:VEVENT
DTSTART;TZID=Europe/Paris:20250228T120000
DTEND;TZID=Europe/Paris:20250228T133000
DTSTAMP:20260424T101550
CREATED:20250219T020155Z
LAST-MODIFIED:20250219T020155Z
UID:7507-1740744000-1740749400@canadianrdn.ca
SUMMARY:Celebrate Rare Disease Day: Advancing Clinical Trials Together
DESCRIPTION:On February 28th\, in recognition of Rare Disease Day\, the European project DREAMS (www.dreamshorizon.eu) invites you to a thought-provoking online webinar: “Clinical Trials in Focus: Innovations and Patient Perspectives in Rare Diseases”. Join leading experts as they explore advancements in clinical trial methodologies\, outcome measures\, and lessons learned from research in muscular disorders.
URL:https://canadianrdn.ca/event/celebrate-rare-disease-day-advancing-clinical-trials-together/
CATEGORIES:Clinical Trials,Events,International,Patient Focused,Research Focused,Virtual,Webinars
END:VEVENT
BEGIN:VEVENT
DTSTART;TZID=America/Denver:20250228T130000
DTEND;TZID=America/Denver:20250228T140000
DTSTAMP:20260424T101550
CREATED:20250219T020904Z
LAST-MODIFIED:20250219T020904Z
UID:7516-1740747600-1740751200@canadianrdn.ca
SUMMARY:Thriving with Duchenne
DESCRIPTION:
URL:https://canadianrdn.ca/event/thriving-with-duchenne/
CATEGORIES:Caregiver,Events,National,Research Focused,Virtual,Webinars
END:VEVENT
END:VCALENDAR