BEGIN:VCALENDAR
VERSION:2.0
PRODID:-//Canadian Rare Disease Network - ECPv6.15.20//NONSGML v1.0//EN
CALSCALE:GREGORIAN
METHOD:PUBLISH
X-WR-CALNAME:Canadian Rare Disease Network
X-ORIGINAL-URL:https://canadianrdn.ca
X-WR-CALDESC:Events for Canadian Rare Disease Network
REFRESH-INTERVAL;VALUE=DURATION:PT1H
X-Robots-Tag:noindex
X-PUBLISHED-TTL:PT1H
BEGIN:VTIMEZONE
TZID:America/Halifax
BEGIN:DAYLIGHT
TZOFFSETFROM:-0400
TZOFFSETTO:-0300
TZNAME:ADT
DTSTART:20230312T060000
END:DAYLIGHT
BEGIN:STANDARD
TZOFFSETFROM:-0300
TZOFFSETTO:-0400
TZNAME:AST
DTSTART:20231105T050000
END:STANDARD
BEGIN:DAYLIGHT
TZOFFSETFROM:-0400
TZOFFSETTO:-0300
TZNAME:ADT
DTSTART:20240310T060000
END:DAYLIGHT
BEGIN:STANDARD
TZOFFSETFROM:-0300
TZOFFSETTO:-0400
TZNAME:AST
DTSTART:20241103T050000
END:STANDARD
BEGIN:DAYLIGHT
TZOFFSETFROM:-0400
TZOFFSETTO:-0300
TZNAME:ADT
DTSTART:20250309T060000
END:DAYLIGHT
BEGIN:STANDARD
TZOFFSETFROM:-0300
TZOFFSETTO:-0400
TZNAME:AST
DTSTART:20251102T050000
END:STANDARD
END:VTIMEZONE
BEGIN:VEVENT
DTSTART;TZID=America/Halifax:20240717T120000
DTEND;TZID=America/Halifax:20240717T130000
DTSTAMP:20260425T094339
CREATED:20240523T002927Z
LAST-MODIFIED:20240523T002927Z
UID:4157-1721217600-1721221200@canadianrdn.ca
SUMMARY:Racial and Ethnic Diversity in Pediatric Clinical Trials: Current Barriers and a Path Towards Inclusive Clinical Trial Design and Conduct
DESCRIPTION:Webinar objectives: \n1. Understand the role that historical and ongoing marginalization play in research participation \n2. Discuss how research findings in homogeneous populations are not generalizable to all children \n3. Describe research approaches that can improve diversity and inclusion in pediatric clinical trials
URL:https://canadianrdn.ca/event/racial-and-ethnic-diversity-in-pediatric-clinical-trials-current-barriers-and-a-path-towards-inclusive-clinical-trial-design-and-conduct/
CATEGORIES:Clinical Trials,Healthcare,National,Patient Focused,Research Focused,Virtual,Webinars
END:VEVENT
END:VCALENDAR