BEGIN:VCALENDAR
VERSION:2.0
PRODID:-//Canadian Rare Disease Network - ECPv6.15.20//NONSGML v1.0//EN
CALSCALE:GREGORIAN
METHOD:PUBLISH
X-ORIGINAL-URL:https://canadianrdn.ca
X-WR-CALDESC:Events for Canadian Rare Disease Network
REFRESH-INTERVAL;VALUE=DURATION:PT1H
X-Robots-Tag:noindex
X-PUBLISHED-TTL:PT1H
BEGIN:VTIMEZONE
TZID:America/Chicago
BEGIN:DAYLIGHT
TZOFFSETFROM:-0600
TZOFFSETTO:-0500
TZNAME:CDT
DTSTART:20230312T080000
END:DAYLIGHT
BEGIN:STANDARD
TZOFFSETFROM:-0500
TZOFFSETTO:-0600
TZNAME:CST
DTSTART:20231105T070000
END:STANDARD
BEGIN:DAYLIGHT
TZOFFSETFROM:-0600
TZOFFSETTO:-0500
TZNAME:CDT
DTSTART:20240310T080000
END:DAYLIGHT
BEGIN:STANDARD
TZOFFSETFROM:-0500
TZOFFSETTO:-0600
TZNAME:CST
DTSTART:20241103T070000
END:STANDARD
BEGIN:DAYLIGHT
TZOFFSETFROM:-0600
TZOFFSETTO:-0500
TZNAME:CDT
DTSTART:20250309T080000
END:DAYLIGHT
BEGIN:STANDARD
TZOFFSETFROM:-0500
TZOFFSETTO:-0600
TZNAME:CST
DTSTART:20251102T070000
END:STANDARD
END:VTIMEZONE
BEGIN:VEVENT
DTSTART;TZID=America/Chicago:20241113T110000
DTEND;TZID=America/Chicago:20241113T120000
DTSTAMP:20260424T172356
CREATED:20241105T222729Z
LAST-MODIFIED:20241112T223415Z
UID:6940-1731495600-1731499200@canadianrdn.ca
SUMMARY:Neuroinclusion at Work: Six Principles for Inclusion
DESCRIPTION:In this presentation\, facilitators will walk attendees through Six Principles that promote more supportive and\, ultimately\, successful work environments. In addition to explaining the basic concepts of each principle\, attendees will receive practical\, actionable ideas and strategies to apply the principles in your own workplace.
URL:https://canadianrdn.ca/event/neuroinclusion-at-work-six-principles-for-inclusion/
CATEGORIES:Patient Focused,Research Focused,Virtual,Webinars
END:VEVENT
BEGIN:VEVENT
DTSTART;TZID=America/Chicago:20241113T180000
DTEND;TZID=America/Chicago:20241113T190000
DTSTAMP:20260424T172356
CREATED:20241017T224617Z
LAST-MODIFIED:20241017T224617Z
UID:6099-1731520800-1731524400@canadianrdn.ca
SUMMARY:Rare Disease Day 2025 webinar: Healthcare professionals
DESCRIPTION:
URL:https://canadianrdn.ca/event/rare-disease-day-2025-webinar-healthcare-professionals/
CATEGORIES:Healthcare,International,Virtual,Webinars
END:VEVENT
END:VCALENDAR