BEGIN:VCALENDAR
VERSION:2.0
PRODID:-//Canadian Rare Disease Network - ECPv6.15.20//NONSGML v1.0//EN
CALSCALE:GREGORIAN
METHOD:PUBLISH
X-WR-CALNAME:Canadian Rare Disease Network
X-ORIGINAL-URL:https://canadianrdn.ca
X-WR-CALDESC:Events for Canadian Rare Disease Network
REFRESH-INTERVAL;VALUE=DURATION:PT1H
X-Robots-Tag:noindex
X-PUBLISHED-TTL:PT1H
BEGIN:VTIMEZONE
TZID:UTC
BEGIN:STANDARD
TZOFFSETFROM:+0000
TZOFFSETTO:+0000
TZNAME:UTC
DTSTART:20230101T000000
END:STANDARD
END:VTIMEZONE
BEGIN:VTIMEZONE
TZID:Europe/Helsinki
BEGIN:DAYLIGHT
TZOFFSETFROM:+0200
TZOFFSETTO:+0300
TZNAME:EEST
DTSTART:20230326T010000
END:DAYLIGHT
BEGIN:STANDARD
TZOFFSETFROM:+0300
TZOFFSETTO:+0200
TZNAME:EET
DTSTART:20231029T010000
END:STANDARD
BEGIN:DAYLIGHT
TZOFFSETFROM:+0200
TZOFFSETTO:+0300
TZNAME:EEST
DTSTART:20240331T010000
END:DAYLIGHT
BEGIN:STANDARD
TZOFFSETFROM:+0300
TZOFFSETTO:+0200
TZNAME:EET
DTSTART:20241027T010000
END:STANDARD
BEGIN:DAYLIGHT
TZOFFSETFROM:+0200
TZOFFSETTO:+0300
TZNAME:EEST
DTSTART:20250330T010000
END:DAYLIGHT
BEGIN:STANDARD
TZOFFSETFROM:+0300
TZOFFSETTO:+0200
TZNAME:EET
DTSTART:20251026T010000
END:STANDARD
END:VTIMEZONE
BEGIN:VTIMEZONE
TZID:America/Chicago
BEGIN:DAYLIGHT
TZOFFSETFROM:-0600
TZOFFSETTO:-0500
TZNAME:CDT
DTSTART:20230312T080000
END:DAYLIGHT
BEGIN:STANDARD
TZOFFSETFROM:-0500
TZOFFSETTO:-0600
TZNAME:CST
DTSTART:20231105T070000
END:STANDARD
BEGIN:DAYLIGHT
TZOFFSETFROM:-0600
TZOFFSETTO:-0500
TZNAME:CDT
DTSTART:20240310T080000
END:DAYLIGHT
BEGIN:STANDARD
TZOFFSETFROM:-0500
TZOFFSETTO:-0600
TZNAME:CST
DTSTART:20241103T070000
END:STANDARD
BEGIN:DAYLIGHT
TZOFFSETFROM:-0600
TZOFFSETTO:-0500
TZNAME:CDT
DTSTART:20250309T080000
END:DAYLIGHT
BEGIN:STANDARD
TZOFFSETFROM:-0500
TZOFFSETTO:-0600
TZNAME:CST
DTSTART:20251102T070000
END:STANDARD
END:VTIMEZONE
BEGIN:VEVENT
DTSTART;TZID=UTC:20241008T080000
DTEND;TZID=UTC:20241008T090000
DTSTAMP:20260424T195645
CREATED:20240830T231304Z
LAST-MODIFIED:20240830T231304Z
UID:5529-1728374400-1728378000@canadianrdn.ca
SUMMARY:ERKNet/ESPN Webinar: "Ciliopathies" by Marijn Stokeman
DESCRIPTION:
URL:https://canadianrdn.ca/event/erknet-espn-webinar-ciliopathies-by-marijn-stokeman/
CATEGORIES:Research Focused,Virtual,Webinars
END:VEVENT
BEGIN:VEVENT
DTSTART;TZID=Europe/Helsinki:20241008T080000
DTEND;TZID=Europe/Helsinki:20241011T170000
DTSTAMP:20260424T195645
CREATED:20241002T203156Z
LAST-MODIFIED:20241002T203156Z
UID:5961-1728374400-1728666000@canadianrdn.ca
SUMMARY:🔵26èmes Journées Françaises de l’Epilepsie
DESCRIPTION:
URL:https://canadianrdn.ca/event/%f0%9f%94%b526emes-journees-francaises-de-lepilepsie/
CATEGORIES:Conferences,In Person,International,Patient Focused,Research Focused
END:VEVENT
BEGIN:VEVENT
DTSTART;TZID=America/Chicago:20241008T120000
DTEND;TZID=America/Chicago:20241008T130000
DTSTAMP:20260424T195645
CREATED:20241001T220753Z
LAST-MODIFIED:20241001T220753Z
UID:5948-1728388800-1728392400@canadianrdn.ca
SUMMARY:Understanding the importance of the social determinants of health for children and youth with disabilities
DESCRIPTION:
URL:https://canadianrdn.ca/event/understanding-the-importance-of-the-social-determinants-of-health-for-children-and-youth-with-disabilities/
CATEGORIES:Caregiver,Patient Focused,Research Focused,Virtual,Webinars
END:VEVENT
END:VCALENDAR