BEGIN:VCALENDAR
VERSION:2.0
PRODID:-//Canadian Rare Disease Network - ECPv6.15.20//NONSGML v1.0//EN
CALSCALE:GREGORIAN
METHOD:PUBLISH
X-ORIGINAL-URL:https://canadianrdn.ca
X-WR-CALDESC:Events for Canadian Rare Disease Network
REFRESH-INTERVAL;VALUE=DURATION:PT1H
X-Robots-Tag:noindex
X-PUBLISHED-TTL:PT1H
BEGIN:VTIMEZONE
TZID:America/New_York
BEGIN:DAYLIGHT
TZOFFSETFROM:-0500
TZOFFSETTO:-0400
TZNAME:EDT
DTSTART:20230312T070000
END:DAYLIGHT
BEGIN:STANDARD
TZOFFSETFROM:-0400
TZOFFSETTO:-0500
TZNAME:EST
DTSTART:20231105T060000
END:STANDARD
BEGIN:DAYLIGHT
TZOFFSETFROM:-0500
TZOFFSETTO:-0400
TZNAME:EDT
DTSTART:20240310T070000
END:DAYLIGHT
BEGIN:STANDARD
TZOFFSETFROM:-0400
TZOFFSETTO:-0500
TZNAME:EST
DTSTART:20241103T060000
END:STANDARD
BEGIN:DAYLIGHT
TZOFFSETFROM:-0500
TZOFFSETTO:-0400
TZNAME:EDT
DTSTART:20250309T070000
END:DAYLIGHT
BEGIN:STANDARD
TZOFFSETFROM:-0400
TZOFFSETTO:-0500
TZNAME:EST
DTSTART:20251102T060000
END:STANDARD
END:VTIMEZONE
BEGIN:VEVENT
DTSTART;TZID=America/New_York:20240919T120000
DTEND;TZID=America/New_York:20240919T130000
DTSTAMP:20260424T195836
CREATED:20240904T001559Z
LAST-MODIFIED:20240904T001559Z
UID:5571-1726747200-1726750800@canadianrdn.ca
SUMMARY:Webinar - Clinical trials across the lifespan: Considerations for trials with pregnant people and children
DESCRIPTION:Webinar objectives:\n1. Identify reasons why more clinical trials should include children and pregnant people \n2. Describe additional considerations for designing\, operating\, and communicating about clinical trials with pregnant people and children \n3. Discuss opportunities and challenges for considering clinical trials across the life span with IMPaCT and PregTrials
URL:https://canadianrdn.ca/event/webinar-clinical-trials-across-the-lifespan-considerations-for-trials-with-pregnant-people-and-children/
CATEGORIES:Clinical Trials,National,Patient Focused,Research Focused,Virtual,Webinars
END:VEVENT
END:VCALENDAR