BEGIN:VCALENDAR
VERSION:2.0
PRODID:-//Canadian Rare Disease Network - ECPv6.15.20//NONSGML v1.0//EN
CALSCALE:GREGORIAN
METHOD:PUBLISH
X-ORIGINAL-URL:https://canadianrdn.ca
X-WR-CALDESC:Events for Canadian Rare Disease Network
REFRESH-INTERVAL;VALUE=DURATION:PT1H
X-Robots-Tag:noindex
X-PUBLISHED-TTL:PT1H
BEGIN:VTIMEZONE
TZID:America/Halifax
BEGIN:DAYLIGHT
TZOFFSETFROM:-0400
TZOFFSETTO:-0300
TZNAME:ADT
DTSTART:20230312T060000
END:DAYLIGHT
BEGIN:STANDARD
TZOFFSETFROM:-0300
TZOFFSETTO:-0400
TZNAME:AST
DTSTART:20231105T050000
END:STANDARD
BEGIN:DAYLIGHT
TZOFFSETFROM:-0400
TZOFFSETTO:-0300
TZNAME:ADT
DTSTART:20240310T060000
END:DAYLIGHT
BEGIN:STANDARD
TZOFFSETFROM:-0300
TZOFFSETTO:-0400
TZNAME:AST
DTSTART:20241103T050000
END:STANDARD
BEGIN:DAYLIGHT
TZOFFSETFROM:-0400
TZOFFSETTO:-0300
TZNAME:ADT
DTSTART:20250309T060000
END:DAYLIGHT
BEGIN:STANDARD
TZOFFSETFROM:-0300
TZOFFSETTO:-0400
TZNAME:AST
DTSTART:20251102T050000
END:STANDARD
END:VTIMEZONE
BEGIN:VEVENT
DTSTART;TZID=America/Halifax:20240911T120000
DTEND;TZID=America/Halifax:20240911T130000
DTSTAMP:20260424T195836
CREATED:20240523T003752Z
LAST-MODIFIED:20240523T003752Z
UID:4163-1726056000-1726059600@canadianrdn.ca
SUMMARY:Designing effectiveness-implementation hybrid trials in child health research
DESCRIPTION:The webinar will introduce effectiveness-hybrid designs\, showcase examples\, and outline important considerations for conducting these types of studies. It will also briefly summarize tensions that may occur in conducting implementation research and mention tools to support implementation planning and execution.
URL:https://canadianrdn.ca/event/designing-effectiveness-implementation-hybrid-trials-in-child-health-research/
CATEGORIES:Clinical Trials,Healthcare,National,Research Focused,Virtual,Webinars
END:VEVENT
END:VCALENDAR