BEGIN:VCALENDAR
VERSION:2.0
PRODID:-//Canadian Rare Disease Network - ECPv6.15.20//NONSGML v1.0//EN
CALSCALE:GREGORIAN
METHOD:PUBLISH
X-WR-CALNAME:Canadian Rare Disease Network
X-ORIGINAL-URL:https://canadianrdn.ca
X-WR-CALDESC:Events for Canadian Rare Disease Network
REFRESH-INTERVAL;VALUE=DURATION:PT1H
X-Robots-Tag:noindex
X-PUBLISHED-TTL:PT1H
BEGIN:VTIMEZONE
TZID:America/Edmonton
BEGIN:DAYLIGHT
TZOFFSETFROM:-0700
TZOFFSETTO:-0600
TZNAME:MDT
DTSTART:20250309T090000
END:DAYLIGHT
BEGIN:STANDARD
TZOFFSETFROM:-0600
TZOFFSETTO:-0700
TZNAME:MST
DTSTART:20251102T080000
END:STANDARD
BEGIN:DAYLIGHT
TZOFFSETFROM:-0700
TZOFFSETTO:-0600
TZNAME:MDT
DTSTART:20260308T090000
END:DAYLIGHT
BEGIN:STANDARD
TZOFFSETFROM:-0600
TZOFFSETTO:-0700
TZNAME:MST
DTSTART:20261101T080000
END:STANDARD
BEGIN:DAYLIGHT
TZOFFSETFROM:-0700
TZOFFSETTO:-0600
TZNAME:MDT
DTSTART:20270314T090000
END:DAYLIGHT
BEGIN:STANDARD
TZOFFSETFROM:-0600
TZOFFSETTO:-0700
TZNAME:MST
DTSTART:20271107T080000
END:STANDARD
END:VTIMEZONE
BEGIN:VTIMEZONE
TZID:America/Toronto
BEGIN:DAYLIGHT
TZOFFSETFROM:-0500
TZOFFSETTO:-0400
TZNAME:EDT
DTSTART:20250309T070000
END:DAYLIGHT
BEGIN:STANDARD
TZOFFSETFROM:-0400
TZOFFSETTO:-0500
TZNAME:EST
DTSTART:20251102T060000
END:STANDARD
BEGIN:DAYLIGHT
TZOFFSETFROM:-0500
TZOFFSETTO:-0400
TZNAME:EDT
DTSTART:20260308T070000
END:DAYLIGHT
BEGIN:STANDARD
TZOFFSETFROM:-0400
TZOFFSETTO:-0500
TZNAME:EST
DTSTART:20261101T060000
END:STANDARD
BEGIN:DAYLIGHT
TZOFFSETFROM:-0500
TZOFFSETTO:-0400
TZNAME:EDT
DTSTART:20270314T070000
END:DAYLIGHT
BEGIN:STANDARD
TZOFFSETFROM:-0400
TZOFFSETTO:-0500
TZNAME:EST
DTSTART:20271107T060000
END:STANDARD
END:VTIMEZONE
BEGIN:VEVENT
DTSTART;TZID=America/Edmonton:20260304T110000
DTEND;TZID=America/Edmonton:20260304T123000
DTSTAMP:20260423T131401
CREATED:20260126T210847Z
LAST-MODIFIED:20260126T210847Z
UID:9656-1772622000-1772627400@canadianrdn.ca
SUMMARY:Stem Cell Network: Clinical Translation in Cell and Gene Therapy
DESCRIPTION:Stem Cell Network and BioCanRx are pleased to present this webinar on clinical translation\, offering trainees\, early-career investigators\, and researchers a high-level introduction to how cell and gene therapies (including regenerative medicine and cancer biotherapeutics) move from the lab to clinical trials.
URL:https://canadianrdn.ca/event/stem-cell-network-clinical-translation-in-cell-and-gene-therapy/
CATEGORIES:Clinical Trials,Healthcare,Industry,National,Patient Focused,Policy,Research Focused,Virtual,Webinars
ATTACH;FMTTYPE=image/jpeg:https://canadianrdn.ca/wp-content/uploads/2026/01/1768827404847.jpg
END:VEVENT
BEGIN:VEVENT
DTSTART;TZID=America/Toronto:20260306T090000
DTEND;TZID=America/Toronto:20260306T160000
DTSTAMP:20260423T131401
CREATED:20260126T211704Z
LAST-MODIFIED:20260225T183444Z
UID:9662-1772787600-1772812800@canadianrdn.ca
SUMMARY:McMaster University Workshop-Measuring the Impacts of Engaging People with Lived and Living Experience
DESCRIPTION:Join this in-person workshop focused on how to measure and evaluate the impacts of engaging people with lived and living experience in health research\, systems\, and policy. \nThe session will share practical approaches\, real-world case examples\, and lessons learned from engagement evaluation. Participants will learn how to select and apply evaluation tools to measure impact and address common challenges.
URL:https://canadianrdn.ca/event/workshop-measuring-the-impacts-of-engaging-people-with-lived-and-living-experience/
CATEGORIES:Events,Healthcare,National,Patient Focused,Policy,Research Focused
ATTACH;FMTTYPE=image/jpeg:https://canadianrdn.ca/wp-content/uploads/2026/01/20231027-11372350-WEB-REZ.jpg
END:VEVENT
BEGIN:VEVENT
DTSTART;TZID=America/Toronto:20260311T130000
DTEND;TZID=America/Toronto:20260311T140000
DTSTAMP:20260423T131401
CREATED:20260212T210726Z
LAST-MODIFIED:20260212T210726Z
UID:9800-1773234000-1773237600@canadianrdn.ca
SUMMARY:RareKids-CAN: Rare Methods Workshop Series: Eliciting prior distributions for rare disease clinical trials
DESCRIPTION:Are you a rare disease methodologist\, investigator or trainee? Join RareKids-CAN and speaker Arlene Jiang for a Rare Methods Workshop on expert elicitation in rare disease research on March 11. \nLearn what expert elicitation is\, how it can support rare disease clinical design and how expert input can be used to construct a prior distribution.
URL:https://canadianrdn.ca/event/rarekids-can-rare-methods-workshop-series-eliciting-prior-distributions-for-rare-disease-clinical-trials/
CATEGORIES:Clinical Trials,Healthcare,Industry,National,Patient Focused,Policy,Research Focused,Virtual,Webinars
ATTACH;FMTTYPE=image/jpeg:https://canadianrdn.ca/wp-content/uploads/2026/02/1770730225814.jpg
END:VEVENT
BEGIN:VEVENT
DTSTART;TZID=America/Edmonton:20260312T100000
DTEND;TZID=America/Edmonton:20260312T130000
DTSTAMP:20260423T131401
CREATED:20260311T225507Z
LAST-MODIFIED:20260311T225507Z
UID:9931-1773309600-1773320400@canadianrdn.ca
SUMMARY:CAN-Child: F-words Foundations Workshop
DESCRIPTION:Join CAN-Child’s interactive 3-hour F-words Foundations Workshop and explore how to bring the F-words for Child Development—Functioning\, Family\, Fitness\, Fun\, Friends\, and Future—into everyday practice and life!
URL:https://canadianrdn.ca/event/can-child-f-words-foundations-workshop/
CATEGORIES:Caregiver,Healthcare,National,Patient Focused,Research Focused,Virtual,Webinars
ATTACH;FMTTYPE=image/jpeg:https://canadianrdn.ca/wp-content/uploads/2026/03/1773068481975.jpg
END:VEVENT
BEGIN:VEVENT
DTSTART;TZID=America/Edmonton:20260325T100000
DTEND;TZID=America/Edmonton:20260325T110000
DTSTAMP:20260423T131401
CREATED:20260311T230004Z
LAST-MODIFIED:20260311T230004Z
UID:9937-1774432800-1774436400@canadianrdn.ca
SUMMARY:PiPER Community of Practice: Patient Partners in Learning Health Systems: The Centre for Digital Health Evaluation Experience
DESCRIPTION:Save the date on *March 25th 2026*  for a dynamic session entitled “Patient Partners in Learning Health Systems: The Centre for Digital Health Evaluation Experience”.
URL:https://canadianrdn.ca/event/piper-community-of-practice-patient-partners-in-learning-health-systems-the-centre-for-digital-health-evaluation-experience/
CATEGORIES:Caregiver,Healthcare,National,Patient Focused,Research Focused,Virtual,Webinars
ATTACH;FMTTYPE=image/jpeg:https://canadianrdn.ca/wp-content/uploads/2026/03/1772648035669.jpg
END:VEVENT
BEGIN:VEVENT
DTSTART;TZID=America/Toronto:20260327T080000
DTEND;TZID=America/Toronto:20260327T170000
DTSTAMP:20260423T131401
CREATED:20260101T231010Z
LAST-MODIFIED:20260101T231010Z
UID:9494-1774598400-1774630800@canadianrdn.ca
SUMMARY:RARE.Qc's Scientific Day and Annual General Meeting
DESCRIPTION:The event will take place in the Cruess Amphitheatre and the Elspeth McConnell Atrium at the Research Institute of the McGill University Health Centre (RI-MUHC) in Montréal\, and will also be offered in a virtual format.
URL:https://canadianrdn.ca/event/rare-qcs-scientific-day-and-annual-general-meeting/
CATEGORIES:Conferences,Hybrid,Industry,National,Patient Focused,Policy,Research Focused
ATTACH;FMTTYPE=image/png:https://canadianrdn.ca/wp-content/uploads/2026/01/Affiche_JourneeScientifique_RARE-Qc_2026_EN.png
END:VEVENT
END:VCALENDAR