BEGIN:VCALENDAR
VERSION:2.0
PRODID:-//Canadian Rare Disease Network - ECPv6.15.20//NONSGML v1.0//EN
CALSCALE:GREGORIAN
METHOD:PUBLISH
X-ORIGINAL-URL:https://canadianrdn.ca
X-WR-CALDESC:Events for Canadian Rare Disease Network
REFRESH-INTERVAL;VALUE=DURATION:PT1H
X-Robots-Tag:noindex
X-PUBLISHED-TTL:PT1H
BEGIN:VTIMEZONE
TZID:America/New_York
BEGIN:DAYLIGHT
TZOFFSETFROM:-0500
TZOFFSETTO:-0400
TZNAME:EDT
DTSTART:20240310T070000
END:DAYLIGHT
BEGIN:STANDARD
TZOFFSETFROM:-0400
TZOFFSETTO:-0500
TZNAME:EST
DTSTART:20241103T060000
END:STANDARD
BEGIN:DAYLIGHT
TZOFFSETFROM:-0500
TZOFFSETTO:-0400
TZNAME:EDT
DTSTART:20250309T070000
END:DAYLIGHT
BEGIN:STANDARD
TZOFFSETFROM:-0400
TZOFFSETTO:-0500
TZNAME:EST
DTSTART:20251102T060000
END:STANDARD
BEGIN:DAYLIGHT
TZOFFSETFROM:-0500
TZOFFSETTO:-0400
TZNAME:EDT
DTSTART:20260308T070000
END:DAYLIGHT
BEGIN:STANDARD
TZOFFSETFROM:-0400
TZOFFSETTO:-0500
TZNAME:EST
DTSTART:20261101T060000
END:STANDARD
END:VTIMEZONE
BEGIN:VTIMEZONE
TZID:America/Chicago
BEGIN:DAYLIGHT
TZOFFSETFROM:-0600
TZOFFSETTO:-0500
TZNAME:CDT
DTSTART:20240310T080000
END:DAYLIGHT
BEGIN:STANDARD
TZOFFSETFROM:-0500
TZOFFSETTO:-0600
TZNAME:CST
DTSTART:20241103T070000
END:STANDARD
BEGIN:DAYLIGHT
TZOFFSETFROM:-0600
TZOFFSETTO:-0500
TZNAME:CDT
DTSTART:20250309T080000
END:DAYLIGHT
BEGIN:STANDARD
TZOFFSETFROM:-0500
TZOFFSETTO:-0600
TZNAME:CST
DTSTART:20251102T070000
END:STANDARD
BEGIN:DAYLIGHT
TZOFFSETFROM:-0600
TZOFFSETTO:-0500
TZNAME:CDT
DTSTART:20260308T080000
END:DAYLIGHT
BEGIN:STANDARD
TZOFFSETFROM:-0500
TZOFFSETTO:-0600
TZNAME:CST
DTSTART:20261101T070000
END:STANDARD
END:VTIMEZONE
BEGIN:VTIMEZONE
TZID:America/Denver
BEGIN:DAYLIGHT
TZOFFSETFROM:-0700
TZOFFSETTO:-0600
TZNAME:MDT
DTSTART:20240310T090000
END:DAYLIGHT
BEGIN:STANDARD
TZOFFSETFROM:-0600
TZOFFSETTO:-0700
TZNAME:MST
DTSTART:20241103T080000
END:STANDARD
BEGIN:DAYLIGHT
TZOFFSETFROM:-0700
TZOFFSETTO:-0600
TZNAME:MDT
DTSTART:20250309T090000
END:DAYLIGHT
BEGIN:STANDARD
TZOFFSETFROM:-0600
TZOFFSETTO:-0700
TZNAME:MST
DTSTART:20251102T080000
END:STANDARD
BEGIN:DAYLIGHT
TZOFFSETFROM:-0700
TZOFFSETTO:-0600
TZNAME:MDT
DTSTART:20260308T090000
END:DAYLIGHT
BEGIN:STANDARD
TZOFFSETFROM:-0600
TZOFFSETTO:-0700
TZNAME:MST
DTSTART:20261101T080000
END:STANDARD
END:VTIMEZONE
BEGIN:VEVENT
DTSTART;TZID=America/New_York:20250204T190000
DTEND;TZID=America/New_York:20250204T200000
DTSTAMP:20260424T101033
CREATED:20250130T024529Z
LAST-MODIFIED:20250130T024529Z
UID:7441-1738695600-1738699200@canadianrdn.ca
SUMMARY:Neuromuscular Mystery Case Rounds
DESCRIPTION:Muscular Dystrophy Canada (MDC) and the Neuromuscular Disease Network for Canada (NMD4C) are pleased to invite you to Neuromuscular Mystery Case Rounds. This case-based rounds webinar is for Canadian clinicians\, academics\, and trainees with an interest in neuromuscular disease. NMD4C and MDC are providing organizational and technical support. This is an independent clinical/academic webinar with no industry sponsorship or influence.
URL:https://canadianrdn.ca/event/neuromuscular-mystery-case-rounds/
CATEGORIES:Healthcare,National,Patient Focused,Research Focused,Virtual,Webinars
END:VEVENT
BEGIN:VEVENT
DTSTART;TZID=America/Chicago:20250224T080000
DTEND;TZID=America/Chicago:20250226T170000
DTSTAMP:20260424T101033
CREATED:20250219T015946Z
LAST-MODIFIED:20250219T015946Z
UID:7504-1740384000-1740589200@canadianrdn.ca
SUMMARY:2025 Clinical Trials Training Summit
DESCRIPTION:
URL:https://canadianrdn.ca/event/2025-clinical-trials-training-summit/
CATEGORIES:Clinical Trials,Conferences,Healthcare,Hybrid,Industry,National,Patient Focused,Policy,Provincial,Research Focused
END:VEVENT
BEGIN:VEVENT
DTSTART;TZID=America/New_York:20250228T120000
DTEND;TZID=America/New_York:20250228T130000
DTSTAMP:20260424T101033
CREATED:20250207T035521Z
LAST-MODIFIED:20250207T043313Z
UID:7459-1740744000-1740747600@canadianrdn.ca
SUMMARY:CORD Rare Disease Day 2025 Webinar
DESCRIPTION:CORD is hosting a special webinar on Friday\, Feb 28 from 12-1pm EST so that everyone from across Canada can tune in and help put that funding to work. Here’s what they’ll discuss: – Ending the diagnostic odyssey with CHEO’s ThinkRare – Treating and tracking rare diseases at BC Cancer – Caring for complex kids and adults at BC Children’s Hospital – The challenge of treating adults with SMA in Manitoba – Measuring the socioeconomic impact of rare diseases on families and health systems
URL:https://canadianrdn.ca/event/cord-rare-disease-day-2025-webinar/
CATEGORIES:Caregiver,National,Patient Focused,Policy,Research Focused,Virtual,Webinars
END:VEVENT
BEGIN:VEVENT
DTSTART;TZID=America/Denver:20250228T130000
DTEND;TZID=America/Denver:20250228T140000
DTSTAMP:20260424T101033
CREATED:20250219T020904Z
LAST-MODIFIED:20250219T020904Z
UID:7516-1740747600-1740751200@canadianrdn.ca
SUMMARY:Thriving with Duchenne
DESCRIPTION:
URL:https://canadianrdn.ca/event/thriving-with-duchenne/
CATEGORIES:Caregiver,Events,National,Research Focused,Virtual,Webinars
END:VEVENT
END:VCALENDAR