BEGIN:VCALENDAR
VERSION:2.0
PRODID:-//Canadian Rare Disease Network - ECPv6.15.20//NONSGML v1.0//EN
CALSCALE:GREGORIAN
METHOD:PUBLISH
X-WR-CALNAME:Canadian Rare Disease Network
X-ORIGINAL-URL:https://canadianrdn.ca
X-WR-CALDESC:Events for Canadian Rare Disease Network
REFRESH-INTERVAL;VALUE=DURATION:PT1H
X-Robots-Tag:noindex
X-PUBLISHED-TTL:PT1H
BEGIN:VTIMEZONE
TZID:UTC
BEGIN:STANDARD
TZOFFSETFROM:+0000
TZOFFSETTO:+0000
TZNAME:UTC
DTSTART:20230101T000000
END:STANDARD
END:VTIMEZONE
BEGIN:VTIMEZONE
TZID:America/Chicago
BEGIN:DAYLIGHT
TZOFFSETFROM:-0600
TZOFFSETTO:-0500
TZNAME:CDT
DTSTART:20230312T080000
END:DAYLIGHT
BEGIN:STANDARD
TZOFFSETFROM:-0500
TZOFFSETTO:-0600
TZNAME:CST
DTSTART:20231105T070000
END:STANDARD
BEGIN:DAYLIGHT
TZOFFSETFROM:-0600
TZOFFSETTO:-0500
TZNAME:CDT
DTSTART:20240310T080000
END:DAYLIGHT
BEGIN:STANDARD
TZOFFSETFROM:-0500
TZOFFSETTO:-0600
TZNAME:CST
DTSTART:20241103T070000
END:STANDARD
BEGIN:DAYLIGHT
TZOFFSETFROM:-0600
TZOFFSETTO:-0500
TZNAME:CDT
DTSTART:20250309T080000
END:DAYLIGHT
BEGIN:STANDARD
TZOFFSETFROM:-0500
TZOFFSETTO:-0600
TZNAME:CST
DTSTART:20251102T070000
END:STANDARD
END:VTIMEZONE
BEGIN:VTIMEZONE
TZID:America/Denver
BEGIN:DAYLIGHT
TZOFFSETFROM:-0700
TZOFFSETTO:-0600
TZNAME:MDT
DTSTART:20230312T090000
END:DAYLIGHT
BEGIN:STANDARD
TZOFFSETFROM:-0600
TZOFFSETTO:-0700
TZNAME:MST
DTSTART:20231105T080000
END:STANDARD
BEGIN:DAYLIGHT
TZOFFSETFROM:-0700
TZOFFSETTO:-0600
TZNAME:MDT
DTSTART:20240310T090000
END:DAYLIGHT
BEGIN:STANDARD
TZOFFSETFROM:-0600
TZOFFSETTO:-0700
TZNAME:MST
DTSTART:20241103T080000
END:STANDARD
BEGIN:DAYLIGHT
TZOFFSETFROM:-0700
TZOFFSETTO:-0600
TZNAME:MDT
DTSTART:20250309T090000
END:DAYLIGHT
BEGIN:STANDARD
TZOFFSETFROM:-0600
TZOFFSETTO:-0700
TZNAME:MST
DTSTART:20251102T080000
END:STANDARD
END:VTIMEZONE
BEGIN:VEVENT
DTSTART;TZID=UTC:20240929T080000
DTEND;TZID=UTC:20241001T170000
DTSTAMP:20260424T163753
CREATED:20240918T211234Z
LAST-MODIFIED:20240918T211234Z
UID:5877-1727596800-1727802000@canadianrdn.ca
SUMMARY:4th International Symposium on Arthrogryposis
DESCRIPTION:The International Symposium on Arthrogryposis provides a platform for learning and exchanging on the clinical management and research in Arthrogryposis Multiplex Congenita (AMC) in the areas of genetics\, orthopedics\, and rehabilitation. Multisite collaborations are key to advance research initiatives and standardize practice across centers.
URL:https://canadianrdn.ca/event/4th-international-symposium-on-arthrogryposis/
CATEGORIES:Conferences,Healthcare,In Person,National,Research Focused
END:VEVENT
BEGIN:VEVENT
DTSTART;TZID=America/Chicago:20241015T120000
DTEND;TZID=America/Chicago:20241015T130000
DTSTAMP:20260424T163753
CREATED:20241004T013111Z
LAST-MODIFIED:20241004T013111Z
UID:6004-1728993600-1728997200@canadianrdn.ca
SUMMARY:Stem Cell Therapies for Neuromuscular Disorders
DESCRIPTION:
URL:https://canadianrdn.ca/event/stem-cell-therapies-for-neuromuscular-disorders/
CATEGORIES:Healthcare,National,Research Focused,Virtual,Webinars
END:VEVENT
BEGIN:VEVENT
DTSTART;TZID=America/Chicago:20241022T150000
DTEND;TZID=America/Chicago:20241022T160000
DTSTAMP:20260424T163753
CREATED:20240924T223058Z
LAST-MODIFIED:20240924T223058Z
UID:5921-1729609200-1729612800@canadianrdn.ca
SUMMARY:Update on treatment in Pompe disease
DESCRIPTION:Muscular Dystrophy Canada (MDC) and the Neuromuscular Disease Network for Canada (NMD4C) are pleased to invite you to a webinar on treatment updates in Pompe disease. This case-based rounds webinar is for Canadian clinicians\, academics\, and trainees with an interest in neuromuscular disease.
URL:https://canadianrdn.ca/event/update-on-treatment-in-pompe-disease/
CATEGORIES:National,Research Focused,Virtual,Webinars
END:VEVENT
BEGIN:VEVENT
DTSTART;TZID=UTC:20241024T080000
DTEND;TZID=UTC:20241025T170000
DTSTAMP:20260424T163753
CREATED:20240809T212727Z
LAST-MODIFIED:20241004T014606Z
UID:5097-1729756800-1729875600@canadianrdn.ca
SUMMARY:The 4th Annual Canadian Children\, Youth and Communities (CCYC) Health In | Equity Conference
DESCRIPTION:The Canadian Children\, Youth and Communities (CCYC) In | Equity Conference is an interdisciplinary conference designed to bring together pediatric health and allied health care professionals to address health care inequities from birth to adolescence using a family-centred approach. \nThis conference explores health equity topics specific to marginalized communities in the Canadian health care system and offers approaches that can be implemented to address barriers in accessing healthcare for under serviced\, high-risk and economically disadvantaged children and youth.
URL:https://canadianrdn.ca/event/the-4th-annual-canadian-children-youth-and-communities-ccyc-health-in-equity-conference/
CATEGORIES:Caregiver,Conferences,National,Patient Focused,Research Focused,Virtual
END:VEVENT
BEGIN:VEVENT
DTSTART;TZID=America/Denver:20241031T120000
DTEND;TZID=America/Denver:20241031T130000
DTSTAMP:20260424T163753
CREATED:20240828T231253Z
LAST-MODIFIED:20240828T231253Z
UID:5502-1730376000-1730379600@canadianrdn.ca
SUMMARY:CRDN Townhall – An Update on the Co-Development of our Strategic Plan
DESCRIPTION:Join the Canadian Rare Disease Network (CRDN) – Réseau Canadien des Maladies Rares – for a dynamic townhall to engage with thought leaders\, experts\, and the rare disease community as we explore and shape the future of rare disease care and research in Canada. This townhall will provide an overview of the CRDN and its draft strategic plan. Following the presentation\, there will be an opportunity to ask questions and contribute to the co-development of CRDN’s strategic plan. Whether you are a patient\, caregiver\, researcher\, healthcare provider\, advocate\, or other member of the rare disease community\, your voice is vital in building a more integrated\, inclusive\, and compassionate approach to rare disease care and research in Canada. Register now to be part of this conversation!
URL:https://canadianrdn.ca/event/crdn-townhall-an-update-on-the-co-development-of-our-strategic-plan/
CATEGORIES:Caregiver,Events,National,Patient Focused,Policy,Provincial,Research Focused,Virtual
ATTACH;FMTTYPE=image/png:https://canadianrdn.ca/wp-content/uploads/2024/08/Town-Hall-Eng.png
END:VEVENT
END:VCALENDAR