BEGIN:VCALENDAR
VERSION:2.0
PRODID:-//Canadian Rare Disease Network - ECPv6.15.20//NONSGML v1.0//EN
CALSCALE:GREGORIAN
METHOD:PUBLISH
X-WR-CALNAME:Canadian Rare Disease Network
X-ORIGINAL-URL:https://canadianrdn.ca
X-WR-CALDESC:Events for Canadian Rare Disease Network
REFRESH-INTERVAL;VALUE=DURATION:PT1H
X-Robots-Tag:noindex
X-PUBLISHED-TTL:PT1H
BEGIN:VTIMEZONE
TZID:America/Halifax
BEGIN:DAYLIGHT
TZOFFSETFROM:-0400
TZOFFSETTO:-0300
TZNAME:ADT
DTSTART:20230312T060000
END:DAYLIGHT
BEGIN:STANDARD
TZOFFSETFROM:-0300
TZOFFSETTO:-0400
TZNAME:AST
DTSTART:20231105T050000
END:STANDARD
BEGIN:DAYLIGHT
TZOFFSETFROM:-0400
TZOFFSETTO:-0300
TZNAME:ADT
DTSTART:20240310T060000
END:DAYLIGHT
BEGIN:STANDARD
TZOFFSETFROM:-0300
TZOFFSETTO:-0400
TZNAME:AST
DTSTART:20241103T050000
END:STANDARD
BEGIN:DAYLIGHT
TZOFFSETFROM:-0400
TZOFFSETTO:-0300
TZNAME:ADT
DTSTART:20250309T060000
END:DAYLIGHT
BEGIN:STANDARD
TZOFFSETFROM:-0300
TZOFFSETTO:-0400
TZNAME:AST
DTSTART:20251102T050000
END:STANDARD
END:VTIMEZONE
BEGIN:VTIMEZONE
TZID:UTC
BEGIN:STANDARD
TZOFFSETFROM:+0000
TZOFFSETTO:+0000
TZNAME:UTC
DTSTART:20230101T000000
END:STANDARD
END:VTIMEZONE
BEGIN:VEVENT
DTSTART;TZID=America/Halifax:20240807T120000
DTEND;TZID=America/Halifax:20240807T130000
DTSTAMP:20260424T195236
CREATED:20240523T003302Z
LAST-MODIFIED:20240523T003302Z
UID:4160-1723032000-1723035600@canadianrdn.ca
SUMMARY:Considerations for effective integration of gender and sex in research and clinical trials
DESCRIPTION:In this session\, Dr. Natalie Rosen will explore best practice guidelines for researchers to build more equitable\, reflective\, and inclusive research and clinical trials with respect to gender and sex. Dr. Rosen will touch briefly on a variety of topics including\, participant eligibility\, recruitment\, sampling plans and data analysis\, measurement of genders and sexes\, responsiveness across time\, and working with validated scales. The objective is to stimulate critical thought about effective integration of sex and gender in research and clinical trials and to offer some key resources for continued learning.
URL:https://canadianrdn.ca/event/considerations-for-effective-integration-of-gender-and-sex-in-research-and-clinical-trials/
CATEGORIES:Clinical Trials,Healthcare,National,Research Focused,Virtual,Webinars
END:VEVENT
BEGIN:VEVENT
DTSTART;TZID=UTC:20240829T080000
DTEND;TZID=UTC:20240831T170000
DTSTAMP:20260424T195236
CREATED:20240523T212750Z
LAST-MODIFIED:20240531T023825Z
UID:4213-1724918400-1725123600@canadianrdn.ca
SUMMARY:21st BI-ANNUAL NATIONAL SCLERODERMA CONFERENCE
DESCRIPTION:Held in beautiful St. John’s\, NL\, the 21st Bi-Annual National Scleroderma Conference offers an information-rich opportunity for people living with scleroderma\, their caregivers\, family members\, friends\, and medical professionals.  \n​Research updates\, panel discussions\, keynotes\, workshops\, and other educational sessions are led by leading scleroderma researchers\, healthcare professionals and other industry leading professionals. Whether you are newly diagnosed or have had scleroderma for many years\, the National Conference is a great way to learn about the disease and become connected with others that are dealing with scleroderma.
URL:https://canadianrdn.ca/event/21st-bi-annual-national-scleroderma-conference/
LOCATION:St John’s Conference Centre\, St John's\, Newfoundland\, Canada
CATEGORIES:Conferences,Healthcare,In Person,National,Patient Focused,Policy,Research Focused
END:VEVENT
BEGIN:VEVENT
DTSTART;TZID=UTC:20240830T103000
DTEND;TZID=UTC:20240830T113000
DTSTAMP:20260424T195236
CREATED:20240618T011800Z
LAST-MODIFIED:20240618T011800Z
UID:4456-1725013800-1725017400@canadianrdn.ca
SUMMARY:Canadian Scleroderma Research Group - Navigating Systemic Sclerosis Waters
DESCRIPTION:The CME (Continuing Medical Education) Session hosted at the National Scleroderma Conference is for family practitioners\, ER physicians\, critical care physicians\, internists\, rheumatologists\, nephrologists\, cardiologists\, respirologists\, nurses\, physiotherapists\, occupational therapists\, respiratory therapists\, pharmacists\, and students.
URL:https://canadianrdn.ca/event/canadian-scleroderma-research-group-navigating-systemic-sclerosis-waters/
CATEGORIES:Conferences,Events,Healthcare,Hybrid,National
END:VEVENT
END:VCALENDAR