BEGIN:VCALENDAR
VERSION:2.0
PRODID:-//Canadian Rare Disease Network - ECPv6.15.20//NONSGML v1.0//EN
CALSCALE:GREGORIAN
METHOD:PUBLISH
X-ORIGINAL-URL:https://canadianrdn.ca
X-WR-CALDESC:Events for Canadian Rare Disease Network
REFRESH-INTERVAL;VALUE=DURATION:PT1H
X-Robots-Tag:noindex
X-PUBLISHED-TTL:PT1H
BEGIN:VTIMEZONE
TZID:America/Toronto
BEGIN:DAYLIGHT
TZOFFSETFROM:-0500
TZOFFSETTO:-0400
TZNAME:EDT
DTSTART:20240310T070000
END:DAYLIGHT
BEGIN:STANDARD
TZOFFSETFROM:-0400
TZOFFSETTO:-0500
TZNAME:EST
DTSTART:20241103T060000
END:STANDARD
BEGIN:DAYLIGHT
TZOFFSETFROM:-0500
TZOFFSETTO:-0400
TZNAME:EDT
DTSTART:20250309T070000
END:DAYLIGHT
BEGIN:STANDARD
TZOFFSETFROM:-0400
TZOFFSETTO:-0500
TZNAME:EST
DTSTART:20251102T060000
END:STANDARD
BEGIN:DAYLIGHT
TZOFFSETFROM:-0500
TZOFFSETTO:-0400
TZNAME:EDT
DTSTART:20260308T070000
END:DAYLIGHT
BEGIN:STANDARD
TZOFFSETFROM:-0400
TZOFFSETTO:-0500
TZNAME:EST
DTSTART:20261101T060000
END:STANDARD
BEGIN:DAYLIGHT
TZOFFSETFROM:-0500
TZOFFSETTO:-0400
TZNAME:EDT
DTSTART:20270314T070000
END:DAYLIGHT
BEGIN:STANDARD
TZOFFSETFROM:-0400
TZOFFSETTO:-0500
TZNAME:EST
DTSTART:20271107T060000
END:STANDARD
END:VTIMEZONE
BEGIN:VTIMEZONE
TZID:America/New_York
BEGIN:DAYLIGHT
TZOFFSETFROM:-0500
TZOFFSETTO:-0400
TZNAME:EDT
DTSTART:20240310T070000
END:DAYLIGHT
BEGIN:STANDARD
TZOFFSETFROM:-0400
TZOFFSETTO:-0500
TZNAME:EST
DTSTART:20241103T060000
END:STANDARD
BEGIN:DAYLIGHT
TZOFFSETFROM:-0500
TZOFFSETTO:-0400
TZNAME:EDT
DTSTART:20250309T070000
END:DAYLIGHT
BEGIN:STANDARD
TZOFFSETFROM:-0400
TZOFFSETTO:-0500
TZNAME:EST
DTSTART:20251102T060000
END:STANDARD
BEGIN:DAYLIGHT
TZOFFSETFROM:-0500
TZOFFSETTO:-0400
TZNAME:EDT
DTSTART:20260308T070000
END:DAYLIGHT
BEGIN:STANDARD
TZOFFSETFROM:-0400
TZOFFSETTO:-0500
TZNAME:EST
DTSTART:20261101T060000
END:STANDARD
END:VTIMEZONE
BEGIN:VTIMEZONE
TZID:America/Edmonton
BEGIN:DAYLIGHT
TZOFFSETFROM:-0700
TZOFFSETTO:-0600
TZNAME:MDT
DTSTART:20240310T090000
END:DAYLIGHT
BEGIN:STANDARD
TZOFFSETFROM:-0600
TZOFFSETTO:-0700
TZNAME:MST
DTSTART:20241103T080000
END:STANDARD
BEGIN:DAYLIGHT
TZOFFSETFROM:-0700
TZOFFSETTO:-0600
TZNAME:MDT
DTSTART:20250309T090000
END:DAYLIGHT
BEGIN:STANDARD
TZOFFSETFROM:-0600
TZOFFSETTO:-0700
TZNAME:MST
DTSTART:20251102T080000
END:STANDARD
BEGIN:DAYLIGHT
TZOFFSETFROM:-0700
TZOFFSETTO:-0600
TZNAME:MDT
DTSTART:20260308T090000
END:DAYLIGHT
BEGIN:STANDARD
TZOFFSETFROM:-0600
TZOFFSETTO:-0700
TZNAME:MST
DTSTART:20261101T080000
END:STANDARD
BEGIN:DAYLIGHT
TZOFFSETFROM:-0700
TZOFFSETTO:-0600
TZNAME:MDT
DTSTART:20270314T090000
END:DAYLIGHT
BEGIN:STANDARD
TZOFFSETFROM:-0600
TZOFFSETTO:-0700
TZNAME:MST
DTSTART:20271107T080000
END:STANDARD
END:VTIMEZONE
BEGIN:VTIMEZONE
TZID:Asia/Krasnoyarsk
BEGIN:STANDARD
TZOFFSETFROM:+0700
TZOFFSETTO:+0700
TZNAME:+07
DTSTART:20240101T000000
END:STANDARD
END:VTIMEZONE
BEGIN:VTIMEZONE
TZID:Asia/Dubai
BEGIN:STANDARD
TZOFFSETFROM:+0400
TZOFFSETTO:+0400
TZNAME:+04
DTSTART:20240101T000000
END:STANDARD
END:VTIMEZONE
BEGIN:VTIMEZONE
TZID:America/Vancouver
BEGIN:DAYLIGHT
TZOFFSETFROM:-0800
TZOFFSETTO:-0700
TZNAME:PDT
DTSTART:20250309T100000
END:DAYLIGHT
BEGIN:STANDARD
TZOFFSETFROM:-0700
TZOFFSETTO:-0800
TZNAME:PST
DTSTART:20251102T090000
END:STANDARD
BEGIN:DAYLIGHT
TZOFFSETFROM:-0800
TZOFFSETTO:-0700
TZNAME:PDT
DTSTART:20260308T100000
END:DAYLIGHT
BEGIN:STANDARD
TZOFFSETFROM:-0700
TZOFFSETTO:-0800
TZNAME:PST
DTSTART:20261101T090000
END:STANDARD
BEGIN:DAYLIGHT
TZOFFSETFROM:-0800
TZOFFSETTO:-0700
TZNAME:PDT
DTSTART:20270314T100000
END:DAYLIGHT
BEGIN:STANDARD
TZOFFSETFROM:-0700
TZOFFSETTO:-0800
TZNAME:PST
DTSTART:20271107T090000
END:STANDARD
END:VTIMEZONE
BEGIN:VTIMEZONE
TZID:Europe/Prague
BEGIN:DAYLIGHT
TZOFFSETFROM:+0100
TZOFFSETTO:+0200
TZNAME:CEST
DTSTART:20250330T010000
END:DAYLIGHT
BEGIN:STANDARD
TZOFFSETFROM:+0200
TZOFFSETTO:+0100
TZNAME:CET
DTSTART:20251026T010000
END:STANDARD
BEGIN:DAYLIGHT
TZOFFSETFROM:+0100
TZOFFSETTO:+0200
TZNAME:CEST
DTSTART:20260329T010000
END:DAYLIGHT
BEGIN:STANDARD
TZOFFSETFROM:+0200
TZOFFSETTO:+0100
TZNAME:CET
DTSTART:20261025T010000
END:STANDARD
BEGIN:DAYLIGHT
TZOFFSETFROM:+0100
TZOFFSETTO:+0200
TZNAME:CEST
DTSTART:20270328T010000
END:DAYLIGHT
BEGIN:STANDARD
TZOFFSETFROM:+0200
TZOFFSETTO:+0100
TZNAME:CET
DTSTART:20271031T010000
END:STANDARD
END:VTIMEZONE
BEGIN:VEVENT
DTSTART;TZID=America/Toronto:20250604T180000
DTEND;TZID=America/Toronto:20250604T200000
DTSTAMP:20260425T103125
CREATED:20250529T205430Z
LAST-MODIFIED:20250529T205450Z
UID:8391-1749060000-1749067200@canadianrdn.ca
SUMMARY:BHI Cafe Scientific-Where the brain and heart meet
DESCRIPTION:This event will highlight innovative\, patient-oriented strategies designed to address fragmented care for brain and heart conditions. Although brain and heart health are closely linked\, the heath care system often treats them in isolation. This Café Scientific will showcase how research is driving real-world solutions that enhance patient care.
URL:https://canadianrdn.ca/event/bhi-cafe-scientific-where-the-brain-and-heart-meet/
CATEGORIES:Caregiver,Healthcare,Hybrid,National,Patient Focused,Research Focused,Webinars
END:VEVENT
BEGIN:VEVENT
DTSTART;TZID=America/New_York:20250707T080000
DTEND;TZID=America/New_York:20250709T170000
DTSTAMP:20260425T103125
CREATED:20250321T031011Z
LAST-MODIFIED:20250321T031011Z
UID:7802-1751875200-1752080400@canadianrdn.ca
SUMMARY:2nd Global Cell & Gene Therapy Summit
DESCRIPTION:
URL:https://canadianrdn.ca/event/2nd-global-cell-gene-therapy-summit/
CATEGORIES:Caregiver,Clinical Trials,Conferences,Hybrid,International,Policy,Research Focused
END:VEVENT
BEGIN:VEVENT
DTSTART;TZID=America/Toronto:20250719T100000
DTEND;TZID=America/Toronto:20250719T140000
DTSTAMP:20260425T103125
CREATED:20250625T024315Z
LAST-MODIFIED:20250625T024315Z
UID:8472-1752919200-1752933600@canadianrdn.ca
SUMMARY:CANAIRI Co-Design Workshop
DESCRIPTION:This workshop will co-design resources to support patients and families navigating the era of AI in medicine! The workshop is open to all and we welcome youth\, adults\, and families!
URL:https://canadianrdn.ca/event/canairi-co-design-workshop/
CATEGORIES:Caregiver,Healthcare,Hybrid,National,Patient Focused,Research Focused
END:VEVENT
BEGIN:VEVENT
DTSTART;TZID=America/Edmonton:20250821T080000
DTEND;TZID=America/Edmonton:20250824T170000
DTSTAMP:20260425T103125
CREATED:20250526T204722Z
LAST-MODIFIED:20250526T204722Z
UID:8328-1755763200-1756054800@canadianrdn.ca
SUMMARY:Building Bridges "Bridging" Conference
DESCRIPTION:
URL:https://canadianrdn.ca/event/building-bridges-bridging-conference/
CATEGORIES:Caregiver,Conferences,Healthcare,Hybrid,National,Patient Focused,Research Focused
END:VEVENT
BEGIN:VEVENT
DTSTART;TZID=America/Edmonton:20250828T060000
DTEND;TZID=America/Edmonton:20250828T073000
DTSTAMP:20260425T103125
CREATED:20250728T213522Z
LAST-MODIFIED:20250728T213535Z
UID:8595-1756360800-1756366200@canadianrdn.ca
SUMMARY:WHA Resolution Coalition Webinar: Turning the WHA Resolution on Rare Diseases into Action
DESCRIPTION:This Coalition webinar will further discuss the formalization of the Coalition as well as the updates and next steps in the implementation of the WHA Resolution on Rare Diseases and the development of the Global Action Plan.
URL:https://canadianrdn.ca/event/wha-resolution-coalition-webinar-turning-the-wha-resolution-on-rare-diseases-into-action/
CATEGORIES:Hybrid,International,Patient Focused,Research Focused,Virtual,Webinars
END:VEVENT
BEGIN:VEVENT
DTSTART;TZID=America/Edmonton:20250909T080000
DTEND;TZID=America/Edmonton:20250912T170000
DTSTAMP:20260425T103125
CREATED:20250902T192157Z
LAST-MODIFIED:20250902T192157Z
UID:8839-1757404800-1757696400@canadianrdn.ca
SUMMARY:PxP2025
DESCRIPTION:The PxP (For Patients\, By Patients) conference will be September 9-11 (for those in Europe\, Africa or North and South America)\, or 10-12 (Asia and Oceania). This free\, virtual event aims to bring you a wealth of knowledge\, skills and resources on Patient Engagement in health research.
URL:https://canadianrdn.ca/event/pxp2025/
CATEGORIES:Caregiver,Conferences,Healthcare,Hybrid,National,Patient Focused,Research Focused
END:VEVENT
BEGIN:VEVENT
DTSTART;TZID=America/Toronto:20250911T080000
DTEND;TZID=America/Toronto:20250912T170000
DTSTAMP:20260425T103125
CREATED:20250625T025647Z
LAST-MODIFIED:20250625T025659Z
UID:8478-1757577600-1757696400@canadianrdn.ca
SUMMARY:PHA-Medical Think Tank
DESCRIPTION:Join Canada’s premier CPD event on pulmonary hypertension\, co-developed by PHA Canada and the Canadian Thoracic Society\, including: \n· Keynote presentations by Dr. Steven Kawut (University of Pennsylvania) and Athénaïs Boucly (University of Paris-Saclay) \n· Presentations on pulmonary hypertension topics from diagnosis through treatment \n· Updates on pulmonary hypertension research. \nSeptember 11 & 12 in Toronto or via Zoom. For more information and to register: https://www.phacanada.ca/thinktank
URL:https://canadianrdn.ca/event/pha-medical-think-tank/
CATEGORIES:Conferences,Healthcare,Hybrid,National,Policy,Research Focused
END:VEVENT
BEGIN:VEVENT
DTSTART;TZID=America/Toronto:20250911T080000
DTEND;TZID=America/Toronto:20250913T170000
DTSTAMP:20260425T103125
CREATED:20250625T024827Z
LAST-MODIFIED:20250625T024827Z
UID:8475-1757577600-1757782800@canadianrdn.ca
SUMMARY:2025 Pulmonary Hypertension Community Conference
DESCRIPTION:​Join PHA Canada’s 2025 PH Community Conference to explore how they can drive meaningful change and inspire hope across the PH community. This year’s event will feature powerful keynote speakers\, interactive workshops\, and engaging panel discussions—all designed to empower you with new strategies\, the latest research\, and stories of resilience and innovation.
URL:https://canadianrdn.ca/event/2025-pulmonary-hypertension-community-conference/
CATEGORIES:Caregiver,Conferences,Healthcare,Hybrid,National,Patient Focused,Policy,Research Focused
END:VEVENT
BEGIN:VEVENT
DTSTART;TZID=Asia/Krasnoyarsk:20251018T080000
DTEND;TZID=Asia/Krasnoyarsk:20251019T170000
DTSTAMP:20260425T103125
CREATED:20241218T230242Z
LAST-MODIFIED:20241218T230242Z
UID:7274-1760774400-1760893200@canadianrdn.ca
SUMMARY:International Neurology Conference 2025 |  Mental Health Conference\, Thailand
DESCRIPTION:Neurology & Mental Health conference 2025 is set to be held on the 18th and 19th of October 2025\, in Bangkok\, Thailand in hybrid mode\, allowing everyone to gain knowledge and providing a platform for discussing the latest advancements in treatments and techniques\, future and present challenges\, and sharing invaluable experiences in Neurology and allied disciplines. The event will feature plenary lectures\, speeches\, research & technical presentations\, and hands-on experience workshops to help shape the future of neurology & psychiatry.
URL:https://canadianrdn.ca/event/international-neurology-conference-2025-mental-health-conference-thailand/
CATEGORIES:Conferences,Healthcare,Hybrid,International,Patient Focused,Research Focused
END:VEVENT
BEGIN:VEVENT
DTSTART;TZID=America/Toronto:20251029T080000
DTEND;TZID=America/Toronto:20251031T170000
DTSTAMP:20260425T103125
CREATED:20250902T192527Z
LAST-MODIFIED:20250902T192527Z
UID:8845-1761724800-1761930000@canadianrdn.ca
SUMMARY:Cardiac Precision Medicine in the 21st Century
DESCRIPTION:The 10th International Cardiovascular Genomic Medicine & SickKids Cardiac Precision Medicine Conference is making its debut in North America! This year’s theme\, “Cardiac Precision Medicine in the 21st Century\,” delves into cardiovascular genomics and precision medicine in the era of ‘Omics’\, AI and digital medicine. Join us as we bring together international experts and innovators to explore transformative research and collaborative opportunities that can shape the future of cardiovascular medicine. \nThis event will feature the 4th William Harvey Oration delivered by Dr. Sharlene Day and the Dr. Michael Braudo Lectureship delivered by Dr. Ma’n H. Zawati.
URL:https://canadianrdn.ca/event/cardiac-precision-medicine-in-the-21st-century/
CATEGORIES:Caregiver,Clinical Trials,Conferences,Healthcare,Hybrid,National,Patient Focused,Policy,Research Focused
END:VEVENT
BEGIN:VEVENT
DTSTART;TZID=America/Toronto:20251030T080000
DTEND;TZID=America/Toronto:20251101T170000
DTSTAMP:20260425T103125
CREATED:20250501T162537Z
LAST-MODIFIED:20250501T162537Z
UID:8114-1761811200-1762016400@canadianrdn.ca
SUMMARY:YPAHD Day + National Conference
DESCRIPTION:
URL:https://canadianrdn.ca/event/ypahd-day-national-conference/
CATEGORIES:Caregiver,Conferences,Healthcare,Hybrid,National,Patient Focused,Provincial,Research Focused
END:VEVENT
BEGIN:VEVENT
DTSTART;TZID=Asia/Dubai:20251110T080000
DTEND;TZID=Asia/Dubai:20251111T170000
DTSTAMP:20260425T103125
CREATED:20250403T024050Z
LAST-MODIFIED:20250403T024050Z
UID:7909-1762761600-1762880400@canadianrdn.ca
SUMMARY:42nd International Conference on Advances in Psychiatry and Mental Health
DESCRIPTION:This premier event will bring together leading experts\, researchers\, and mental health professionals to explore innovative approaches and emerging trends in the field of psychiatry. Psychiatry Conference 2025 cordially invites all psychiatrists\, psychologists\, researchers\, clinicians\, mental health professionals\, neuroscientists\, healthcare practitioners\, academicians\, and industry experts to join us on November 10-11\, 2025\, in Dubai\, UAE.
URL:https://canadianrdn.ca/event/42nd-international-conference-on-advances-in-psychiatry-and-mental-health/
CATEGORIES:Conferences,Hybrid,International,Patient Focused,Research Focused
END:VEVENT
BEGIN:VEVENT
DTSTART;TZID=America/Toronto:20251125T080000
DTEND;TZID=America/Toronto:20251126T170000
DTSTAMP:20260425T103125
CREATED:20250703T162704Z
LAST-MODIFIED:20250703T162809Z
UID:8507-1764057600-1764176400@canadianrdn.ca
SUMMARY:CORD: Rare Disease Conference Fall 2025
DESCRIPTION:
URL:https://canadianrdn.ca/event/rare-disease-conference-fall-2025/
CATEGORIES:Conferences,Hybrid,Industry,National,Patient Focused,Policy,Research Focused
END:VEVENT
BEGIN:VEVENT
DTSTART;TZID=America/Edmonton:20251209T080000
DTEND;TZID=America/Edmonton:20251210T170000
DTSTAMP:20260425T103125
CREATED:20250902T192732Z
LAST-MODIFIED:20250902T192732Z
UID:8848-1765267200-1765386000@canadianrdn.ca
SUMMARY:2nd International Conference on Clinical Research Networks (CRNs) for Rare Diseases
DESCRIPTION:This second edition will convene a wide range of international experts\, including researchers\, clinicians\, patient advocates\, industry representatives\, policymakers\, and funders to strengthen the collaborative ecosystem that underpins clinical research in rare diseases worldwide.
URL:https://canadianrdn.ca/event/2nd-international-conference-on-clinical-research-networks-crns-for-rare-diseases/
CATEGORIES:Clinical Trials,Conferences,Healthcare,Hybrid,Industry,International,Patient Focused,Policy,Research Focused
END:VEVENT
BEGIN:VEVENT
DTSTART;TZID=America/Toronto:20260228T100000
DTEND;TZID=America/Toronto:20260228T160000
DTSTAMP:20260425T103125
CREATED:20251204T203609Z
LAST-MODIFIED:20251204T203609Z
UID:9257-1772272800-1772294400@canadianrdn.ca
SUMMARY:RQMO 2026 International Rare Disease Day
DESCRIPTION:On February 28th\, from 10 a.m. to 4 p.m.\, we invite you to participate in the RQMO 2026 International Rare Disease Day. The event will be held in hybrid mode\, meaning that it will be possible to attend in person or virtually.
URL:https://canadianrdn.ca/event/rqmo-2026-international-rare-disease-day/
CATEGORIES:Caregiver,Events,Healthcare,Hybrid,National,Patient Focused,Provincial,Research Focused
ATTACH;FMTTYPE=image/jpeg:https://canadianrdn.ca/wp-content/uploads/2025/12/1764607278340.jpg
END:VEVENT
BEGIN:VEVENT
DTSTART;TZID=America/Toronto:20260325T080000
DTEND;TZID=America/Toronto:20260327T170000
DTSTAMP:20260425T103125
CREATED:20260101T231316Z
LAST-MODIFIED:20260101T231316Z
UID:9497-1774425600-1774630800@canadianrdn.ca
SUMMARY:4th Annual Scientific Symposium on SPG4
DESCRIPTION:The premier gathering for childhood-onset SPG4 research returns in 2026 — uniting leading scientists\, clinicians\, industry innovators\, patient advocates\, and families for three days of focused collaboration. Designed to accelerate the path from discovery to treatment\, the symposium will feature experts from across the U.S. and abroad\, offering a rare opportunity to share knowledge\, align priorities\, and drive progress.
URL:https://canadianrdn.ca/event/4th-annual-scientific-symposium-on-spg4/
CATEGORIES:Clinical Trials,Conferences,Hybrid,Industry,International,Patient Focused,Policy,Research Focused
END:VEVENT
BEGIN:VEVENT
DTSTART;TZID=America/Toronto:20260327T080000
DTEND;TZID=America/Toronto:20260327T170000
DTSTAMP:20260425T103125
CREATED:20260101T231010Z
LAST-MODIFIED:20260101T231010Z
UID:9494-1774598400-1774630800@canadianrdn.ca
SUMMARY:RARE.Qc's Scientific Day and Annual General Meeting
DESCRIPTION:The event will take place in the Cruess Amphitheatre and the Elspeth McConnell Atrium at the Research Institute of the McGill University Health Centre (RI-MUHC) in Montréal\, and will also be offered in a virtual format.
URL:https://canadianrdn.ca/event/rare-qcs-scientific-day-and-annual-general-meeting/
CATEGORIES:Conferences,Hybrid,Industry,National,Patient Focused,Policy,Research Focused
ATTACH;FMTTYPE=image/png:https://canadianrdn.ca/wp-content/uploads/2026/01/Affiche_JourneeScientifique_RARE-Qc_2026_EN.png
END:VEVENT
BEGIN:VEVENT
DTSTART;TZID=America/Edmonton:20260409T080000
DTEND;TZID=America/Edmonton:20260410T170000
DTSTAMP:20260425T103125
CREATED:20260401T192545Z
LAST-MODIFIED:20260401T192545Z
UID:10070-1775721600-1775840400@canadianrdn.ca
SUMMARY:Ehlers-Danlos Syndrome (EDS) Research Symposium
DESCRIPTION:The Ehlers-Danlos Syndrome (EDS) Research Symposium is a two-day event\, April 9-10\, designed to bring together clinicians\, researchers\, students\, patients\, and community partners to examine current research\, clinical challenges\, and emerging approaches to the diagnosis and management of the Ehlers-Danlos syndromes.⁠\n⁠
URL:https://canadianrdn.ca/event/ehlers-danlos-syndrome-eds-research-symposium/
CATEGORIES:Caregiver,Clinical Trials,Conferences,Healthcare,Hybrid,Industry,International,Patient Focused,Policy,Research Focused
ATTACH;FMTTYPE=image/jpeg:https://canadianrdn.ca/wp-content/uploads/2026/04/1774621936518.jpg
END:VEVENT
BEGIN:VEVENT
DTSTART;TZID=America/Toronto:20260429T080000
DTEND;TZID=America/Toronto:20260430T170000
DTSTAMP:20260425T103125
CREATED:20260401T194917Z
LAST-MODIFIED:20260401T195134Z
UID:10092-1777449600-1777568400@canadianrdn.ca
SUMMARY:CORD: Rare Disease Day 2026 Conference
DESCRIPTION:Join CORD for their Annual Rare Disease Day Conference in Toronto!
URL:https://canadianrdn.ca/event/cord-rare-disease-day-2026-conference/
CATEGORIES:Caregiver,Clinical Trials,Conferences,Healthcare,Hybrid,National,Patient Focused,Policy,Research Focused
ATTACH;FMTTYPE=image/jpeg:https://canadianrdn.ca/wp-content/uploads/2026/04/1774467258083.jpg
END:VEVENT
BEGIN:VEVENT
DTSTART;TZID=America/Vancouver:20260522T080000
DTEND;TZID=America/Vancouver:20260523T170000
DTSTAMP:20260425T103125
CREATED:20260401T193919Z
LAST-MODIFIED:20260401T193919Z
UID:10089-1779436800-1779555600@canadianrdn.ca
SUMMARY:4th Heritable Aortic Disorders Symposium
DESCRIPTION:Join the Heritable Aortic Disorders community in Vancouver on May 22–23\, 2026 for an in-person event bringing together experts from across Canada and around the world to discuss the latest developments in the genetics\, diagnosis\, and management of hereditary thoracic aortic disorders. \nDay 1 is designed for healthcare professionals\, with updates on research\, diagnostic protocols\, and clinical management. \nDay 2 is dedicated to patients and families\, featuring presentations and small-group workshops led by local and international experts. \nUBC Robson Square\, Vancouver\, BC
URL:https://canadianrdn.ca/event/4th-heritable-aortic-disorders-symposium/
CATEGORIES:Caregiver,Conferences,Healthcare,Hybrid,National,Patient Focused,Policy,Research Focused
ATTACH;FMTTYPE=image/png:https://canadianrdn.ca/wp-content/uploads/2026/04/HADLogo_SymposiumEF_4Web-scaled.png
END:VEVENT
BEGIN:VEVENT
DTSTART;TZID=Europe/Prague:20260602T080000
DTEND;TZID=Europe/Prague:20260604T170000
DTSTAMP:20260425T103125
CREATED:20250812T194154Z
LAST-MODIFIED:20250812T194154Z
UID:8711-1780387200-1780592400@canadianrdn.ca
SUMMARY:ECRD: Rare Diseases in a Changing & Competitive Europe: Shaping policies to address the unmet needs of people living with rare diseases
DESCRIPTION:The ECRD is the largest\, patient-led\, rare disease policy-shaping event held in Europe. \nBy bringing together people with rare diseases and patient advocates\, policy makers\, healthcare industry representatives\, clinicians\, regulators and Member State representatives\, EURORDIS harnesses the power of this extensive network to shape goal-driven rare disease policies of the future.
URL:https://canadianrdn.ca/event/ecrd-rare-diseases-in-a-changing-competitive-europe-shaping-policies-to-address-the-unmet-needs-of-people-living-with-rare-diseases/
CATEGORIES:Caregiver,Clinical Trials,Conferences,Healthcare,Hybrid,International,Patient Focused,Policy,Research Focused
END:VEVENT
END:VCALENDAR