BEGIN:VCALENDAR
VERSION:2.0
PRODID:-//Canadian Rare Disease Network - ECPv6.15.20//NONSGML v1.0//EN
CALSCALE:GREGORIAN
METHOD:PUBLISH
X-WR-CALNAME:Canadian Rare Disease Network
X-ORIGINAL-URL:https://canadianrdn.ca
X-WR-CALDESC:Events for Canadian Rare Disease Network
REFRESH-INTERVAL;VALUE=DURATION:PT1H
X-Robots-Tag:noindex
X-PUBLISHED-TTL:PT1H
BEGIN:VTIMEZONE
TZID:America/Toronto
BEGIN:DAYLIGHT
TZOFFSETFROM:-0500
TZOFFSETTO:-0400
TZNAME:EDT
DTSTART:20240310T070000
END:DAYLIGHT
BEGIN:STANDARD
TZOFFSETFROM:-0400
TZOFFSETTO:-0500
TZNAME:EST
DTSTART:20241103T060000
END:STANDARD
BEGIN:DAYLIGHT
TZOFFSETFROM:-0500
TZOFFSETTO:-0400
TZNAME:EDT
DTSTART:20250309T070000
END:DAYLIGHT
BEGIN:STANDARD
TZOFFSETFROM:-0400
TZOFFSETTO:-0500
TZNAME:EST
DTSTART:20251102T060000
END:STANDARD
BEGIN:DAYLIGHT
TZOFFSETFROM:-0500
TZOFFSETTO:-0400
TZNAME:EDT
DTSTART:20260308T070000
END:DAYLIGHT
BEGIN:STANDARD
TZOFFSETFROM:-0400
TZOFFSETTO:-0500
TZNAME:EST
DTSTART:20261101T060000
END:STANDARD
END:VTIMEZONE
BEGIN:VTIMEZONE
TZID:Asia/Dubai
BEGIN:STANDARD
TZOFFSETFROM:+0400
TZOFFSETTO:+0400
TZNAME:+04
DTSTART:20240101T000000
END:STANDARD
END:VTIMEZONE
BEGIN:VEVENT
DTSTART;TZID=America/Toronto:20251030T080000
DTEND;TZID=America/Toronto:20251101T170000
DTSTAMP:20260423T192647
CREATED:20250501T162537Z
LAST-MODIFIED:20250501T162537Z
UID:8114-1761811200-1762016400@canadianrdn.ca
SUMMARY:YPAHD Day + National Conference
DESCRIPTION:
URL:https://canadianrdn.ca/event/ypahd-day-national-conference/
CATEGORIES:Caregiver,Conferences,Healthcare,Hybrid,National,Patient Focused,Provincial,Research Focused
END:VEVENT
BEGIN:VEVENT
DTSTART;TZID=Asia/Dubai:20251110T080000
DTEND;TZID=Asia/Dubai:20251111T170000
DTSTAMP:20260423T192647
CREATED:20250403T024050Z
LAST-MODIFIED:20250403T024050Z
UID:7909-1762761600-1762880400@canadianrdn.ca
SUMMARY:42nd International Conference on Advances in Psychiatry and Mental Health
DESCRIPTION:This premier event will bring together leading experts\, researchers\, and mental health professionals to explore innovative approaches and emerging trends in the field of psychiatry. Psychiatry Conference 2025 cordially invites all psychiatrists\, psychologists\, researchers\, clinicians\, mental health professionals\, neuroscientists\, healthcare practitioners\, academicians\, and industry experts to join us on November 10-11\, 2025\, in Dubai\, UAE.
URL:https://canadianrdn.ca/event/42nd-international-conference-on-advances-in-psychiatry-and-mental-health/
CATEGORIES:Conferences,Hybrid,International,Patient Focused,Research Focused
END:VEVENT
BEGIN:VEVENT
DTSTART;TZID=America/Toronto:20251125T080000
DTEND;TZID=America/Toronto:20251126T170000
DTSTAMP:20260423T192647
CREATED:20250703T162704Z
LAST-MODIFIED:20250703T162809Z
UID:8507-1764057600-1764176400@canadianrdn.ca
SUMMARY:CORD: Rare Disease Conference Fall 2025
DESCRIPTION:
URL:https://canadianrdn.ca/event/rare-disease-conference-fall-2025/
CATEGORIES:Conferences,Hybrid,Industry,National,Patient Focused,Policy,Research Focused
END:VEVENT
END:VCALENDAR