BEGIN:VCALENDAR
VERSION:2.0
PRODID:-//Canadian Rare Disease Network - ECPv6.15.20//NONSGML v1.0//EN
CALSCALE:GREGORIAN
METHOD:PUBLISH
X-WR-CALNAME:Canadian Rare Disease Network
X-ORIGINAL-URL:https://canadianrdn.ca
X-WR-CALDESC:Events for Canadian Rare Disease Network
REFRESH-INTERVAL;VALUE=DURATION:PT1H
X-Robots-Tag:noindex
X-PUBLISHED-TTL:PT1H
BEGIN:VTIMEZONE
TZID:America/Edmonton
BEGIN:DAYLIGHT
TZOFFSETFROM:-0700
TZOFFSETTO:-0600
TZNAME:MDT
DTSTART:20250309T090000
END:DAYLIGHT
BEGIN:STANDARD
TZOFFSETFROM:-0600
TZOFFSETTO:-0700
TZNAME:MST
DTSTART:20251102T080000
END:STANDARD
BEGIN:DAYLIGHT
TZOFFSETFROM:-0700
TZOFFSETTO:-0600
TZNAME:MDT
DTSTART:20260308T090000
END:DAYLIGHT
BEGIN:STANDARD
TZOFFSETFROM:-0600
TZOFFSETTO:-0700
TZNAME:MST
DTSTART:20261101T080000
END:STANDARD
BEGIN:DAYLIGHT
TZOFFSETFROM:-0700
TZOFFSETTO:-0600
TZNAME:MDT
DTSTART:20270314T090000
END:DAYLIGHT
BEGIN:STANDARD
TZOFFSETFROM:-0600
TZOFFSETTO:-0700
TZNAME:MST
DTSTART:20271107T080000
END:STANDARD
END:VTIMEZONE
BEGIN:VTIMEZONE
TZID:America/Toronto
BEGIN:DAYLIGHT
TZOFFSETFROM:-0500
TZOFFSETTO:-0400
TZNAME:EDT
DTSTART:20250309T070000
END:DAYLIGHT
BEGIN:STANDARD
TZOFFSETFROM:-0400
TZOFFSETTO:-0500
TZNAME:EST
DTSTART:20251102T060000
END:STANDARD
BEGIN:DAYLIGHT
TZOFFSETFROM:-0500
TZOFFSETTO:-0400
TZNAME:EDT
DTSTART:20260308T070000
END:DAYLIGHT
BEGIN:STANDARD
TZOFFSETFROM:-0400
TZOFFSETTO:-0500
TZNAME:EST
DTSTART:20261101T060000
END:STANDARD
BEGIN:DAYLIGHT
TZOFFSETFROM:-0500
TZOFFSETTO:-0400
TZNAME:EDT
DTSTART:20270314T070000
END:DAYLIGHT
BEGIN:STANDARD
TZOFFSETFROM:-0400
TZOFFSETTO:-0500
TZNAME:EST
DTSTART:20271107T060000
END:STANDARD
END:VTIMEZONE
BEGIN:VEVENT
DTSTART;TZID=America/Edmonton:20260317T080000
DTEND;TZID=America/Edmonton:20260319T170000
DTSTAMP:20260423T162235
CREATED:20260204T172823Z
LAST-MODIFIED:20260204T172823Z
UID:9748-1773734400-1773939600@canadianrdn.ca
SUMMARY:Rare Disease Summit: Access USA
DESCRIPTION:The Rare Disease Summit unites stakeholders to accelerate therapeutic innovation for areas of unmet medical need. Gain actionable insights on launch planning\, market access\, reimbursement strategies and strategic partnerships to optimize rare disease commercialization and elevate patient impact.
URL:https://canadianrdn.ca/event/rare-disease-summit-access-usa/
CATEGORIES:Caregiver,Clinical Trials,Conferences,Healthcare,In Person,Industry,International,Patient Focused,Policy,Research Focused
ATTACH;FMTTYPE=image/jpeg:https://canadianrdn.ca/wp-content/uploads/2026/02/1770040824093.jpg
END:VEVENT
BEGIN:VEVENT
DTSTART;TZID=America/Toronto:20260319T190000
DTEND;TZID=America/Toronto:20260319T200000
DTSTAMP:20260423T162235
CREATED:20260316T133623Z
LAST-MODIFIED:20260316T133623Z
UID:9941-1773946800-1773950400@canadianrdn.ca
SUMMARY:People's Perspectives: Living with Loeys-Dietz Syndrome
DESCRIPTION:For the first time\, the Loeys-Dietz Syndrome Foundation Canada and the Loeys-Dietz Syndrome Foundation – a division of the Marfan Foundation – are joining forces to bring you real talk about LDS from those with lived experience. Join four community members – two from the United States and two from Canada – for this dynamic moderated discussion.
URL:https://canadianrdn.ca/event/peoples-perspectives-living-with-loeys-dietz-syndrome/
CATEGORIES:Caregiver,Healthcare,International,Patient Focused,Research Focused,Virtual,Webinars
ATTACH;FMTTYPE=image/jpeg:https://canadianrdn.ca/wp-content/uploads/2026/03/1773507672043.jpg
END:VEVENT
END:VCALENDAR