BEGIN:VCALENDAR
VERSION:2.0
PRODID:-//Canadian Rare Disease Network - ECPv6.15.20//NONSGML v1.0//EN
CALSCALE:GREGORIAN
METHOD:PUBLISH
X-WR-CALNAME:Canadian Rare Disease Network
X-ORIGINAL-URL:https://canadianrdn.ca
X-WR-CALDESC:Events for Canadian Rare Disease Network
REFRESH-INTERVAL;VALUE=DURATION:PT1H
X-Robots-Tag:noindex
X-PUBLISHED-TTL:PT1H
BEGIN:VTIMEZONE
TZID:UTC
BEGIN:STANDARD
TZOFFSETFROM:+0000
TZOFFSETTO:+0000
TZNAME:UTC
DTSTART:20240101T000000
END:STANDARD
END:VTIMEZONE
BEGIN:VEVENT
DTSTART;TZID=UTC:20250327T100000
DTEND;TZID=UTC:20250327T110000
DTSTAMP:20260424T115555
CREATED:20250318T022619Z
LAST-MODIFIED:20250318T022619Z
UID:7711-1743069600-1743073200@canadianrdn.ca
SUMMARY:Dragon Claw Friends Webinar - Breaking Down Barriers – Are Patients Aware of Their Autoimmune Disease Treatment Options?
DESCRIPTION:Despite significant advancements in the treatment of autoimmune diseases\, many patients remain unaware of their options. Social media platforms are filled with stories of people struggling with uncontrolled symptoms—so why aren’t these breakthroughs reaching those who need them most? To explore this issue\, Dragon Claw Charity Australia\, in collaboration with CaPPRe\, has conducted research into the awareness gap among patients with rheumatology\, dermatology\, and gastroenterology-related autoimmune diseases.
URL:https://canadianrdn.ca/event/dragon-claw-friends-webinar-breaking-down-barriers-are-patients-aware-of-their-autoimmune-disease-treatment-options/
CATEGORIES:Caregiver,Healthcare,International,Patient Focused,Research Focused,Virtual,Webinars
ATTACH;FMTTYPE=image/jpeg:https://canadianrdn.ca/wp-content/uploads/2025/03/1742149835460.jpg
END:VEVENT
END:VCALENDAR