BEGIN:VCALENDAR
VERSION:2.0
PRODID:-//Canadian Rare Disease Network - ECPv6.15.20//NONSGML v1.0//EN
CALSCALE:GREGORIAN
METHOD:PUBLISH
X-ORIGINAL-URL:https://canadianrdn.ca
X-WR-CALDESC:Events for Canadian Rare Disease Network
REFRESH-INTERVAL;VALUE=DURATION:PT1H
X-Robots-Tag:noindex
X-PUBLISHED-TTL:PT1H
BEGIN:VTIMEZONE
TZID:America/Denver
BEGIN:DAYLIGHT
TZOFFSETFROM:-0700
TZOFFSETTO:-0600
TZNAME:MDT
DTSTART:20230312T090000
END:DAYLIGHT
BEGIN:STANDARD
TZOFFSETFROM:-0600
TZOFFSETTO:-0700
TZNAME:MST
DTSTART:20231105T080000
END:STANDARD
BEGIN:DAYLIGHT
TZOFFSETFROM:-0700
TZOFFSETTO:-0600
TZNAME:MDT
DTSTART:20240310T090000
END:DAYLIGHT
BEGIN:STANDARD
TZOFFSETFROM:-0600
TZOFFSETTO:-0700
TZNAME:MST
DTSTART:20241103T080000
END:STANDARD
BEGIN:DAYLIGHT
TZOFFSETFROM:-0700
TZOFFSETTO:-0600
TZNAME:MDT
DTSTART:20250309T090000
END:DAYLIGHT
BEGIN:STANDARD
TZOFFSETFROM:-0600
TZOFFSETTO:-0700
TZNAME:MST
DTSTART:20251102T080000
END:STANDARD
END:VTIMEZONE
BEGIN:VEVENT
DTSTART;TZID=America/Denver:20241202T080000
DTEND;TZID=America/Denver:20241203T170000
DTSTAMP:20260424T164558
CREATED:20241121T024400Z
LAST-MODIFIED:20241121T024400Z
UID:7020-1733126400-1733245200@canadianrdn.ca
SUMMARY:Child Health Hub in Transition to Adult Healthcare
DESCRIPTION:The Child Health Hub in Transition to Adult Healthcare is excited to be hosting the 2nd Transition to Adulthood Pop-Up event on December 2-3\, 2023\, at the beautiful Hyatt Regency in downtown Vancouver. This event aims to bring together youth\, families\, trainees\, researchers\, clinicians\, and policy/decision makers to celebrate the best of what we are learning\, and doing\, to help young people to develop fully\, even when they are challenged by health conditions. For those unable to join in-person\, aspects of the event will be made available in a virtual format.
URL:https://canadianrdn.ca/event/child-health-hub-in-transition-to-adult-healthcare/
CATEGORIES:Caregiver,Healthcare,Hybrid,Industry,Patient Focused,Policy,Provincial,Research Focused
END:VEVENT
END:VCALENDAR