BEGIN:VCALENDAR
VERSION:2.0
PRODID:-//Canadian Rare Disease Network - ECPv6.15.20//NONSGML v1.0//EN
CALSCALE:GREGORIAN
METHOD:PUBLISH
X-WR-CALNAME:Canadian Rare Disease Network
X-ORIGINAL-URL:https://canadianrdn.ca
X-WR-CALDESC:Events for Canadian Rare Disease Network
REFRESH-INTERVAL;VALUE=DURATION:PT1H
X-Robots-Tag:noindex
X-PUBLISHED-TTL:PT1H
BEGIN:VTIMEZONE
TZID:America/Denver
BEGIN:DAYLIGHT
TZOFFSETFROM:-0700
TZOFFSETTO:-0600
TZNAME:MDT
DTSTART:20240310T090000
END:DAYLIGHT
BEGIN:STANDARD
TZOFFSETFROM:-0600
TZOFFSETTO:-0700
TZNAME:MST
DTSTART:20241103T080000
END:STANDARD
BEGIN:DAYLIGHT
TZOFFSETFROM:-0700
TZOFFSETTO:-0600
TZNAME:MDT
DTSTART:20250309T090000
END:DAYLIGHT
BEGIN:STANDARD
TZOFFSETFROM:-0600
TZOFFSETTO:-0700
TZNAME:MST
DTSTART:20251102T080000
END:STANDARD
BEGIN:DAYLIGHT
TZOFFSETFROM:-0700
TZOFFSETTO:-0600
TZNAME:MDT
DTSTART:20260308T090000
END:DAYLIGHT
BEGIN:STANDARD
TZOFFSETFROM:-0600
TZOFFSETTO:-0700
TZNAME:MST
DTSTART:20261101T080000
END:STANDARD
END:VTIMEZONE
BEGIN:VTIMEZONE
TZID:America/New_York
BEGIN:DAYLIGHT
TZOFFSETFROM:-0500
TZOFFSETTO:-0400
TZNAME:EDT
DTSTART:20240310T070000
END:DAYLIGHT
BEGIN:STANDARD
TZOFFSETFROM:-0400
TZOFFSETTO:-0500
TZNAME:EST
DTSTART:20241103T060000
END:STANDARD
BEGIN:DAYLIGHT
TZOFFSETFROM:-0500
TZOFFSETTO:-0400
TZNAME:EDT
DTSTART:20250309T070000
END:DAYLIGHT
BEGIN:STANDARD
TZOFFSETFROM:-0400
TZOFFSETTO:-0500
TZNAME:EST
DTSTART:20251102T060000
END:STANDARD
BEGIN:DAYLIGHT
TZOFFSETFROM:-0500
TZOFFSETTO:-0400
TZNAME:EDT
DTSTART:20260308T070000
END:DAYLIGHT
BEGIN:STANDARD
TZOFFSETFROM:-0400
TZOFFSETTO:-0500
TZNAME:EST
DTSTART:20261101T060000
END:STANDARD
END:VTIMEZONE
BEGIN:VTIMEZONE
TZID:America/Edmonton
BEGIN:DAYLIGHT
TZOFFSETFROM:-0700
TZOFFSETTO:-0600
TZNAME:MDT
DTSTART:20240310T090000
END:DAYLIGHT
BEGIN:STANDARD
TZOFFSETFROM:-0600
TZOFFSETTO:-0700
TZNAME:MST
DTSTART:20241103T080000
END:STANDARD
BEGIN:DAYLIGHT
TZOFFSETFROM:-0700
TZOFFSETTO:-0600
TZNAME:MDT
DTSTART:20250309T090000
END:DAYLIGHT
BEGIN:STANDARD
TZOFFSETFROM:-0600
TZOFFSETTO:-0700
TZNAME:MST
DTSTART:20251102T080000
END:STANDARD
BEGIN:DAYLIGHT
TZOFFSETFROM:-0700
TZOFFSETTO:-0600
TZNAME:MDT
DTSTART:20260308T090000
END:DAYLIGHT
BEGIN:STANDARD
TZOFFSETFROM:-0600
TZOFFSETTO:-0700
TZNAME:MST
DTSTART:20261101T080000
END:STANDARD
END:VTIMEZONE
BEGIN:VTIMEZONE
TZID:America/Toronto
BEGIN:DAYLIGHT
TZOFFSETFROM:-0500
TZOFFSETTO:-0400
TZNAME:EDT
DTSTART:20240310T070000
END:DAYLIGHT
BEGIN:STANDARD
TZOFFSETFROM:-0400
TZOFFSETTO:-0500
TZNAME:EST
DTSTART:20241103T060000
END:STANDARD
BEGIN:DAYLIGHT
TZOFFSETFROM:-0500
TZOFFSETTO:-0400
TZNAME:EDT
DTSTART:20250309T070000
END:DAYLIGHT
BEGIN:STANDARD
TZOFFSETFROM:-0400
TZOFFSETTO:-0500
TZNAME:EST
DTSTART:20251102T060000
END:STANDARD
BEGIN:DAYLIGHT
TZOFFSETFROM:-0500
TZOFFSETTO:-0400
TZNAME:EDT
DTSTART:20260308T070000
END:DAYLIGHT
BEGIN:STANDARD
TZOFFSETFROM:-0400
TZOFFSETTO:-0500
TZNAME:EST
DTSTART:20261101T060000
END:STANDARD
END:VTIMEZONE
BEGIN:VTIMEZONE
TZID:America/Vancouver
BEGIN:DAYLIGHT
TZOFFSETFROM:-0800
TZOFFSETTO:-0700
TZNAME:PDT
DTSTART:20240310T100000
END:DAYLIGHT
BEGIN:STANDARD
TZOFFSETFROM:-0700
TZOFFSETTO:-0800
TZNAME:PST
DTSTART:20241103T090000
END:STANDARD
BEGIN:DAYLIGHT
TZOFFSETFROM:-0800
TZOFFSETTO:-0700
TZNAME:PDT
DTSTART:20250309T100000
END:DAYLIGHT
BEGIN:STANDARD
TZOFFSETFROM:-0700
TZOFFSETTO:-0800
TZNAME:PST
DTSTART:20251102T090000
END:STANDARD
BEGIN:DAYLIGHT
TZOFFSETFROM:-0800
TZOFFSETTO:-0700
TZNAME:PDT
DTSTART:20260308T100000
END:DAYLIGHT
BEGIN:STANDARD
TZOFFSETFROM:-0700
TZOFFSETTO:-0800
TZNAME:PST
DTSTART:20261101T090000
END:STANDARD
END:VTIMEZONE
BEGIN:VTIMEZONE
TZID:America/Kentucky/Louisville
BEGIN:DAYLIGHT
TZOFFSETFROM:-0500
TZOFFSETTO:-0400
TZNAME:EDT
DTSTART:20240310T070000
END:DAYLIGHT
BEGIN:STANDARD
TZOFFSETFROM:-0400
TZOFFSETTO:-0500
TZNAME:EST
DTSTART:20241103T060000
END:STANDARD
BEGIN:DAYLIGHT
TZOFFSETFROM:-0500
TZOFFSETTO:-0400
TZNAME:EDT
DTSTART:20250309T070000
END:DAYLIGHT
BEGIN:STANDARD
TZOFFSETFROM:-0400
TZOFFSETTO:-0500
TZNAME:EST
DTSTART:20251102T060000
END:STANDARD
BEGIN:DAYLIGHT
TZOFFSETFROM:-0500
TZOFFSETTO:-0400
TZNAME:EDT
DTSTART:20260308T070000
END:DAYLIGHT
BEGIN:STANDARD
TZOFFSETFROM:-0400
TZOFFSETTO:-0500
TZNAME:EST
DTSTART:20261101T060000
END:STANDARD
END:VTIMEZONE
BEGIN:VEVENT
DTSTART;TZID=America/Denver:20250429T080000
DTEND;TZID=America/Denver:20250501T170000
DTSTAMP:20260424T065813
CREATED:20250123T225518Z
LAST-MODIFIED:20250123T225535Z
UID:7417-1745913600-1746118800@canadianrdn.ca
SUMMARY:Save the Date: Rare Disease Day 2025 Conference
DESCRIPTION:
URL:https://canadianrdn.ca/event/rare-disease-day-conference/
CATEGORIES:Caregiver,Conferences,Healthcare,National,Patient Focused,Policy,Research Focused,Virtual,Webinars
END:VEVENT
BEGIN:VEVENT
DTSTART;TZID=America/New_York:20250501T080000
DTEND;TZID=America/New_York:20250504T170000
DTSTAMP:20260424T065813
CREATED:20241128T232045Z
LAST-MODIFIED:20241128T232045Z
UID:7081-1746086400-1746378000@canadianrdn.ca
SUMMARY:Myotonic Dystrophy Foundation Conference 2025
DESCRIPTION:MDF invites you to attend the Professional Track at the 2025 MDF Conference in Indianapolis\, Indiana from May 1st to May 4th! Sometimes called the “DM family reunion” – the MDF Conference is an event to unite the DM community in our journey towards treatments and a cure for myotonic dystrophy (DM). This year’s program includes educational sessions exploring research\, drug development\, symptom management\, and other critical topics for DM families\, plus opportunities for formal and informal networking\, wellness\, and fun!
URL:https://canadianrdn.ca/event/myotonic-dystrophy-foundation-conference-2025/
CATEGORIES:Caregiver,Conferences,Healthcare,Hybrid,International,Patient Focused,Policy,Research Focused
END:VEVENT
BEGIN:VEVENT
DTSTART;TZID=America/Edmonton:20250501T183000
DTEND;TZID=America/Edmonton:20250501T203000
DTSTAMP:20260424T065813
CREATED:20250501T161720Z
LAST-MODIFIED:20250501T161720Z
UID:8103-1746124200-1746131400@canadianrdn.ca
SUMMARY:Managing Anxiety in Children and Adolescents with Neurodevelopmental Disorders (NDDs)
DESCRIPTION:Presenters: Thomas Qiao\, MSc\, Research Coordinator\, Department of Psychiatry\, University of Calgary Noah Furlani\, MSc\, Research Coordinator\, Department of Psychiatry\, University of Calgary Dr. Kara Murias\, MD PhD FRCPC\, Pediatric Neurologist\, Alberta Children’s Hospital; Assistant Professor\, Department of Pediatrics and Clinical Neuroscience\, University of Calgary
URL:https://canadianrdn.ca/event/managing-anxiety-in-children-and-adolescents-with-neurodevelopmental-disorders-ndds/
CATEGORIES:Caregiver,National,Patient Focused,Research Focused,Virtual,Webinars
END:VEVENT
BEGIN:VEVENT
DTSTART;TZID=America/Toronto:20250503T080000
DTEND;TZID=America/Toronto:20250503T170000
DTSTAMP:20260424T065813
CREATED:20250501T161048Z
LAST-MODIFIED:20250501T161048Z
UID:8088-1746259200-1746291600@canadianrdn.ca
SUMMARY:FSHD 360 Conference
DESCRIPTION:FSHD research and drug development is in a new era. Do you know what’s happening and how this might impact your life? Here’s your chance to hear from the research and advocacy leaders in Ontario as well as from biopharmaceutical companies that are working on FSHD therapies. Get answers to your questions about your health\, maintaining optimal function through physical therapy\, exercise\, assistive devices\, and more. Don’t miss out on the opportunity to meet patients and families and network with FSHD Society leaders and activists in the community!
URL:https://canadianrdn.ca/event/fshd-360-conference/
CATEGORIES:Caregiver,Conferences,Healthcare,Hybrid,Industry,Patient Focused,Provincial,Research Focused
END:VEVENT
BEGIN:VEVENT
DTSTART;TZID=America/New_York:20250505T150000
DTEND;TZID=America/New_York:20250505T170000
DTSTAMP:20260424T065813
CREATED:20250403T022441Z
LAST-MODIFIED:20250403T022441Z
UID:7894-1746457200-1746464400@canadianrdn.ca
SUMMARY:Applying Principles of Equity\, Diversity\, Inclusion\, and Accessibility in Patient Engagement with Equity Seeking Groups
DESCRIPTION:
URL:https://canadianrdn.ca/event/applying-principles-of-equity-diversity-inclusion-and-accessibility-in-patient-engagement-with-equity-seeking-groups/
CATEGORIES:Caregiver,Events,Healthcare,National,Patient Focused,Virtual
END:VEVENT
BEGIN:VEVENT
DTSTART;TZID=America/Denver:20250508T080000
DTEND;TZID=America/Denver:20250508T170000
DTSTAMP:20260424T065813
CREATED:20250225T041704Z
LAST-MODIFIED:20250225T041704Z
UID:7567-1746691200-1746723600@canadianrdn.ca
SUMMARY:Save the date: Redefining Patient Engagement
DESCRIPTION:
URL:https://canadianrdn.ca/event/save-the-date-redefining-patient-engagement/
CATEGORIES:Caregiver,Healthcare,National,Patient Focused,Policy,Research Focused
END:VEVENT
BEGIN:VEVENT
DTSTART;TZID=America/Vancouver:20250512T120000
DTEND;TZID=America/Vancouver:20250512T130000
DTSTAMP:20260424T065813
CREATED:20250421T222546Z
LAST-MODIFIED:20250421T222546Z
UID:8026-1747051200-1747054800@canadianrdn.ca
SUMMARY:PxP-Upcoming webinar: Growing your influence and a patient partner
DESCRIPTION:Join PxP for an engaging webinar hosted in collaboration with the Patient Engagement Research Ambassadors at the Institute of Musculoskeletal Health and Arthritis.
URL:https://canadianrdn.ca/event/pxp-upcoming-webinar-growing-your-influence-and-a-patient-partner/
CATEGORIES:Caregiver,National,Patient Focused,Research Focused,Virtual,Webinars
END:VEVENT
BEGIN:VEVENT
DTSTART;TZID=America/Vancouver:20250520T120000
DTEND;TZID=America/Vancouver:20250520T130000
DTSTAMP:20260424T065813
CREATED:20250501T161428Z
LAST-MODIFIED:20250501T161428Z
UID:8097-1747742400-1747746000@canadianrdn.ca
SUMMARY:KidsAction Coaching: Community physical activity programs tailored for you!
DESCRIPTION:🎤 Dr. Stephanie Glegg—a pediatric occupational therapist\, researcher\, and proud parent of a child with neurodiversity—will share how KidsAction Coaching supports children with exceptionalities to thrive in community-based physical activity programs. \n🌍 You’ll learn about:\n✅ Free online resources for families & program leaders\n✅ 140+ inclusive physical activities\n✅ Goal-setting & adaptation strategies\n✅ Cultural safety & child-centered programming
URL:https://canadianrdn.ca/event/kidsaction-coaching-community-physical-activity-programs-tailored-for-you/
CATEGORIES:Caregiver,Patient Focused,Research Focused,Virtual,Webinars
END:VEVENT
BEGIN:VEVENT
DTSTART;TZID=America/Kentucky/Louisville:20250522T080000
DTEND;TZID=America/Kentucky/Louisville:20250525T170000
DTSTAMP:20260424T065813
CREATED:20250501T162129Z
LAST-MODIFIED:20250501T162129Z
UID:8109-1747900800-1748192400@canadianrdn.ca
SUMMARY:CureDuchenne 2025 FUTURES National Conference
DESCRIPTION:This annual event is dedicated to providing education\, connection\, and hope to the entire Duchenne community.
URL:https://canadianrdn.ca/event/cureduchenne-2025-futures-national-conference/
CATEGORIES:Caregiver,Clinical Trials,Conferences,Healthcare,In Person,International,Policy,Research Focused
END:VEVENT
BEGIN:VEVENT
DTSTART;TZID=America/Edmonton:20250529T080000
DTEND;TZID=America/Edmonton:20250530T170000
DTSTAMP:20260424T065813
CREATED:20250529T205729Z
LAST-MODIFIED:20250529T205729Z
UID:8394-1748505600-1748624400@canadianrdn.ca
SUMMARY:unfolding PANS PANDAS | reshaping BRAIN+BODY health
DESCRIPTION:This inaugural national conference brings together leading experts from Canada and beyond to explore the physiological and psychological complexities of Pediatric Acute-onset Neuropsychiatric Syndrome (PANS) and Pediatric Autoimmune Neuropsychiatric Disorder Associated with Streptococcal Infections (PANDAS).
URL:https://canadianrdn.ca/event/unfolding-pans-pandas-reshaping-brainbody-health/
CATEGORIES:Caregiver,Conferences,Healthcare,Hybrid,Patient Focused,Policy,Provincial,Research Focused
END:VEVENT
BEGIN:VEVENT
DTSTART;TZID=America/New_York:20250531T080000
DTEND;TZID=America/New_York:20250531T170000
DTSTAMP:20260424T065813
CREATED:20250304T033141Z
LAST-MODIFIED:20250304T033141Z
UID:7614-1748678400-1748710800@canadianrdn.ca
SUMMARY:Unity Through Rheumatic Diseases: In-Person Event
DESCRIPTION:
URL:https://canadianrdn.ca/event/unity-through-rheumatic-diseases-in-person-event/
CATEGORIES:Caregiver,Conferences,Industry,National,Patient Focused,Provincial,Research Focused
END:VEVENT
END:VCALENDAR