BEGIN:VCALENDAR
VERSION:2.0
PRODID:-//Canadian Rare Disease Network - ECPv6.15.20//NONSGML v1.0//EN
CALSCALE:GREGORIAN
METHOD:PUBLISH
X-ORIGINAL-URL:https://canadianrdn.ca
X-WR-CALDESC:Events for Canadian Rare Disease Network
REFRESH-INTERVAL;VALUE=DURATION:PT1H
X-Robots-Tag:noindex
X-PUBLISHED-TTL:PT1H
BEGIN:VTIMEZONE
TZID:America/New_York
BEGIN:DAYLIGHT
TZOFFSETFROM:-0500
TZOFFSETTO:-0400
TZNAME:EDT
DTSTART:20240310T070000
END:DAYLIGHT
BEGIN:STANDARD
TZOFFSETFROM:-0400
TZOFFSETTO:-0500
TZNAME:EST
DTSTART:20241103T060000
END:STANDARD
BEGIN:DAYLIGHT
TZOFFSETFROM:-0500
TZOFFSETTO:-0400
TZNAME:EDT
DTSTART:20250309T070000
END:DAYLIGHT
BEGIN:STANDARD
TZOFFSETFROM:-0400
TZOFFSETTO:-0500
TZNAME:EST
DTSTART:20251102T060000
END:STANDARD
BEGIN:DAYLIGHT
TZOFFSETFROM:-0500
TZOFFSETTO:-0400
TZNAME:EDT
DTSTART:20260308T070000
END:DAYLIGHT
BEGIN:STANDARD
TZOFFSETFROM:-0400
TZOFFSETTO:-0500
TZNAME:EST
DTSTART:20261101T060000
END:STANDARD
END:VTIMEZONE
BEGIN:VTIMEZONE
TZID:America/Halifax
BEGIN:DAYLIGHT
TZOFFSETFROM:-0400
TZOFFSETTO:-0300
TZNAME:ADT
DTSTART:20240310T060000
END:DAYLIGHT
BEGIN:STANDARD
TZOFFSETFROM:-0300
TZOFFSETTO:-0400
TZNAME:AST
DTSTART:20241103T050000
END:STANDARD
BEGIN:DAYLIGHT
TZOFFSETFROM:-0400
TZOFFSETTO:-0300
TZNAME:ADT
DTSTART:20250309T060000
END:DAYLIGHT
BEGIN:STANDARD
TZOFFSETFROM:-0300
TZOFFSETTO:-0400
TZNAME:AST
DTSTART:20251102T050000
END:STANDARD
BEGIN:DAYLIGHT
TZOFFSETFROM:-0400
TZOFFSETTO:-0300
TZNAME:ADT
DTSTART:20260308T060000
END:DAYLIGHT
BEGIN:STANDARD
TZOFFSETFROM:-0300
TZOFFSETTO:-0400
TZNAME:AST
DTSTART:20261101T050000
END:STANDARD
END:VTIMEZONE
BEGIN:VTIMEZONE
TZID:America/Toronto
BEGIN:DAYLIGHT
TZOFFSETFROM:-0500
TZOFFSETTO:-0400
TZNAME:EDT
DTSTART:20240310T070000
END:DAYLIGHT
BEGIN:STANDARD
TZOFFSETFROM:-0400
TZOFFSETTO:-0500
TZNAME:EST
DTSTART:20241103T060000
END:STANDARD
BEGIN:DAYLIGHT
TZOFFSETFROM:-0500
TZOFFSETTO:-0400
TZNAME:EDT
DTSTART:20250309T070000
END:DAYLIGHT
BEGIN:STANDARD
TZOFFSETFROM:-0400
TZOFFSETTO:-0500
TZNAME:EST
DTSTART:20251102T060000
END:STANDARD
BEGIN:DAYLIGHT
TZOFFSETFROM:-0500
TZOFFSETTO:-0400
TZNAME:EDT
DTSTART:20260308T070000
END:DAYLIGHT
BEGIN:STANDARD
TZOFFSETFROM:-0400
TZOFFSETTO:-0500
TZNAME:EST
DTSTART:20261101T060000
END:STANDARD
END:VTIMEZONE
BEGIN:VTIMEZONE
TZID:America/Chicago
BEGIN:DAYLIGHT
TZOFFSETFROM:-0600
TZOFFSETTO:-0500
TZNAME:CDT
DTSTART:20240310T080000
END:DAYLIGHT
BEGIN:STANDARD
TZOFFSETFROM:-0500
TZOFFSETTO:-0600
TZNAME:CST
DTSTART:20241103T070000
END:STANDARD
BEGIN:DAYLIGHT
TZOFFSETFROM:-0600
TZOFFSETTO:-0500
TZNAME:CDT
DTSTART:20250309T080000
END:DAYLIGHT
BEGIN:STANDARD
TZOFFSETFROM:-0500
TZOFFSETTO:-0600
TZNAME:CST
DTSTART:20251102T070000
END:STANDARD
BEGIN:DAYLIGHT
TZOFFSETFROM:-0600
TZOFFSETTO:-0500
TZNAME:CDT
DTSTART:20260308T080000
END:DAYLIGHT
BEGIN:STANDARD
TZOFFSETFROM:-0500
TZOFFSETTO:-0600
TZNAME:CST
DTSTART:20261101T070000
END:STANDARD
END:VTIMEZONE
BEGIN:VTIMEZONE
TZID:America/Denver
BEGIN:DAYLIGHT
TZOFFSETFROM:-0700
TZOFFSETTO:-0600
TZNAME:MDT
DTSTART:20240310T090000
END:DAYLIGHT
BEGIN:STANDARD
TZOFFSETFROM:-0600
TZOFFSETTO:-0700
TZNAME:MST
DTSTART:20241103T080000
END:STANDARD
BEGIN:DAYLIGHT
TZOFFSETFROM:-0700
TZOFFSETTO:-0600
TZNAME:MDT
DTSTART:20250309T090000
END:DAYLIGHT
BEGIN:STANDARD
TZOFFSETFROM:-0600
TZOFFSETTO:-0700
TZNAME:MST
DTSTART:20251102T080000
END:STANDARD
BEGIN:DAYLIGHT
TZOFFSETFROM:-0700
TZOFFSETTO:-0600
TZNAME:MDT
DTSTART:20260308T090000
END:DAYLIGHT
BEGIN:STANDARD
TZOFFSETFROM:-0600
TZOFFSETTO:-0700
TZNAME:MST
DTSTART:20261101T080000
END:STANDARD
END:VTIMEZONE
BEGIN:VEVENT
DTSTART;TZID=America/New_York:20250401T123000
DTEND;TZID=America/New_York:20250401T133000
DTSTAMP:20260424T083440
CREATED:20250325T080251Z
LAST-MODIFIED:20250325T080251Z
UID:7826-1743510600-1743514200@canadianrdn.ca
SUMMARY:National Healthcare Provider Workshop
DESCRIPTION:In celebration of National Caregiving Day\, the Canadian Home Care Association (CHCA) is hosting the National Healthcare Provider Workshop on\, which will bridge insights from Hope for the Best\, Plan for the Rest (McMaster University) and the CHCA eiCOMPASS Project\, highlighting the transformative work of both initiatives.
URL:https://canadianrdn.ca/event/national-healthcare-provider-workshop/
CATEGORIES:Caregiver,Events,National,Patient Focused,Research Focused,Virtual,Webinars
END:VEVENT
BEGIN:VEVENT
DTSTART;TZID=America/Halifax:20250402T130000
DTEND;TZID=America/Halifax:20250402T140000
DTSTAMP:20260424T083440
CREATED:20250326T034907Z
LAST-MODIFIED:20250326T034907Z
UID:7835-1743598800-1743602400@canadianrdn.ca
SUMMARY:Information Session: 2025-2026 Funding Opportunity for Rare Disease Registry Improvement
DESCRIPTION:
URL:https://canadianrdn.ca/event/information-session-2025-2026-funding-opportunity-for-rare-disease-registry-improvement/
CATEGORIES:Caregiver,Healthcare,National,Patient Focused,Research Focused,Virtual,Webinars
ATTACH;FMTTYPE=image/jpeg:https://canadianrdn.ca/wp-content/uploads/2025/03/8a892476-2fc8-476b-a4e2-b0950c425eb9.jpg
END:VEVENT
BEGIN:VEVENT
DTSTART;TZID=America/New_York:20250407T083000
DTEND;TZID=America/New_York:20250407T093000
DTSTAMP:20260424T083440
CREATED:20250326T033414Z
LAST-MODIFIED:20250326T033414Z
UID:7832-1744014600-1744018200@canadianrdn.ca
SUMMARY:Child Health and Wellness Seminar: Discovery Series: Understanding Mental Health and Neurodiversity Through Systems Neuroscience
DESCRIPTION:Understanding and supporting mental health and neurodiversity requires insight into the brain systems that regulate attention\, motivation\, mood and thought. Dr. Gruber’slab studies the brain’s role in these functions and how they are shaped by risk factors such as stress\, inflammation and abused drugs. \n 
URL:https://canadianrdn.ca/event/child-health-and-wellness-seminar-discovery-series-understanding-mental-health-and-neurodiversity-through-systems-neuroscience/
CATEGORIES:Caregiver,Healthcare,Patient Focused,Provincial,Research Focused,Virtual,Webinars
ATTACH;FMTTYPE=image/jpeg:https://canadianrdn.ca/wp-content/uploads/2025/03/13714_COLOURBOX31156818.rev_.1742924419.jpg
END:VEVENT
BEGIN:VEVENT
DTSTART;TZID=America/Halifax:20250407T100000
DTEND;TZID=America/Halifax:20250407T110000
DTSTAMP:20260424T083440
CREATED:20250403T022042Z
LAST-MODIFIED:20250403T022042Z
UID:7888-1744020000-1744023600@canadianrdn.ca
SUMMARY:Caregiving Essentials Webinar: Mapping a Brighter Future for Canadian Caregivers
DESCRIPTION:
URL:https://canadianrdn.ca/event/caregiving-essentials-webinar-mapping-a-brighter-future-for-canadian-caregivers/
CATEGORIES:Caregiver,Healthcare,Patient Focused,Virtual,Webinars
ATTACH;FMTTYPE=image/png:https://canadianrdn.ca/wp-content/uploads/2025/04/4e7ca4f1-e359-4c41-8508-73bf39a078d4.png
END:VEVENT
BEGIN:VEVENT
DTSTART;TZID=America/New_York:20250409T110000
DTEND;TZID=America/New_York:20250409T120000
DTSTAMP:20260424T083440
CREATED:20250403T022159Z
LAST-MODIFIED:20250403T022159Z
UID:7891-1744196400-1744200000@canadianrdn.ca
SUMMARY:Five Good Ideas to support and benefit from working caregivers in your workplace
DESCRIPTION:
URL:https://canadianrdn.ca/event/five-good-ideas-to-support-and-benefit-from-working-caregivers-in-your-workplace/
CATEGORIES:Caregiver,Healthcare,National,Patient Focused,Virtual,Webinars
END:VEVENT
BEGIN:VEVENT
DTSTART;TZID=America/New_York:20250410T143000
DTEND;TZID=America/New_York:20250410T160000
DTSTAMP:20260424T083440
CREATED:20250325T074400Z
LAST-MODIFIED:20250325T074400Z
UID:7811-1744295400-1744300800@canadianrdn.ca
SUMMARY:Thinking Outside of Your In Box: Innovative Fundraising Opportunities
DESCRIPTION:Leadership in rare disease advocacy requires creativity and resourcefulness. This session highlights unconventional fundraising strategies and case studies of successful campaigns. Participants will discover how to secure funding through innovative approaches\, such as partnering with non-traditional sponsors\, and receive actionable tips to implement these ideas in their own organizations.
URL:https://canadianrdn.ca/event/thinking-outside-of-your-in-box-innovative-fundraising-opportunities/
CATEGORIES:Caregiver,Patient Focused,Virtual,Webinars
ATTACH;FMTTYPE=image/png:https://canadianrdn.ca/wp-content/uploads/2025/03/Global-Genes.png
END:VEVENT
BEGIN:VEVENT
DTSTART;TZID=America/Toronto:20250425T113000
DTEND;TZID=America/Toronto:20250425T123000
DTSTAMP:20260424T083440
CREATED:20250421T215541Z
LAST-MODIFIED:20250421T215541Z
UID:8007-1745580600-1745584200@canadianrdn.ca
SUMMARY:Navigating Conflict with Care: Building Stronger Patient Engagement Teams in Research
DESCRIPTION:​Conflict is a natural part of teamwork—but in family engagement in research\, how we navigate it matters. Join them for a compassionate conversation on resolving conflicts in family engagement teams\, fostering trust\, and strengthening collaboration.
URL:https://canadianrdn.ca/event/navigating-conflict-with-care-building-stronger-patient-engagement-teams-in-research/
CATEGORIES:Caregiver,National,Patient Focused,Research Focused,Virtual,Webinars
END:VEVENT
BEGIN:VEVENT
DTSTART;TZID=America/Chicago:20250428T160000
DTEND;TZID=America/Chicago:20250428T201500
DTSTAMP:20260424T083440
CREATED:20250321T030351Z
LAST-MODIFIED:20250404T150819Z
UID:7796-1745856000-1745871300@canadianrdn.ca
SUMMARY:Canadian Rare Disease Innovation Showcase 2025
DESCRIPTION:Join us on Monday\, April 28\, 2025\, at The Westin Hotel in downtown Calgary (or virtually) for an inspiring afternoon dedicated to innovation\, collaboration\, and progress in rare disease research and care. \nThis event will spotlight innovative advancements and inspiring stories from Canada’s rare disease community. Through engaging lightning talks and networking opportunities\, you’ll connect with experts\, exchange ideas\, and be part of the movement driving meaningful change. \nEvery discovery has the power to change lives. Be part of the conversation and help shape the future of rare disease care in Canada.
URL:https://canadianrdn.ca/event/canadian-rare-disease-innovation-showcase-2025/
CATEGORIES:Caregiver,Events,Healthcare,Hybrid,Industry,National,Patient Focused,Research Focused
ATTACH;FMTTYPE=image/png:https://canadianrdn.ca/wp-content/uploads/2025/03/Rare-Disease-Showcase-Poster-Eng.png
END:VEVENT
BEGIN:VEVENT
DTSTART;TZID=America/Denver:20250429T080000
DTEND;TZID=America/Denver:20250501T170000
DTSTAMP:20260424T083440
CREATED:20250123T225518Z
LAST-MODIFIED:20250123T225535Z
UID:7417-1745913600-1746118800@canadianrdn.ca
SUMMARY:Save the Date: Rare Disease Day 2025 Conference
DESCRIPTION:
URL:https://canadianrdn.ca/event/rare-disease-day-conference/
CATEGORIES:Caregiver,Conferences,Healthcare,National,Patient Focused,Policy,Research Focused,Virtual,Webinars
END:VEVENT
END:VCALENDAR