BEGIN:VCALENDAR
VERSION:2.0
PRODID:-//Canadian Rare Disease Network - ECPv6.15.20//NONSGML v1.0//EN
CALSCALE:GREGORIAN
METHOD:PUBLISH
X-WR-CALNAME:Canadian Rare Disease Network
X-ORIGINAL-URL:https://canadianrdn.ca
X-WR-CALDESC:Events for Canadian Rare Disease Network
REFRESH-INTERVAL;VALUE=DURATION:PT1H
X-Robots-Tag:noindex
X-PUBLISHED-TTL:PT1H
BEGIN:VTIMEZONE
TZID:America/New_York
BEGIN:DAYLIGHT
TZOFFSETFROM:-0500
TZOFFSETTO:-0400
TZNAME:EDT
DTSTART:20240310T070000
END:DAYLIGHT
BEGIN:STANDARD
TZOFFSETFROM:-0400
TZOFFSETTO:-0500
TZNAME:EST
DTSTART:20241103T060000
END:STANDARD
BEGIN:DAYLIGHT
TZOFFSETFROM:-0500
TZOFFSETTO:-0400
TZNAME:EDT
DTSTART:20250309T070000
END:DAYLIGHT
BEGIN:STANDARD
TZOFFSETFROM:-0400
TZOFFSETTO:-0500
TZNAME:EST
DTSTART:20251102T060000
END:STANDARD
BEGIN:DAYLIGHT
TZOFFSETFROM:-0500
TZOFFSETTO:-0400
TZNAME:EDT
DTSTART:20260308T070000
END:DAYLIGHT
BEGIN:STANDARD
TZOFFSETFROM:-0400
TZOFFSETTO:-0500
TZNAME:EST
DTSTART:20261101T060000
END:STANDARD
END:VTIMEZONE
BEGIN:VTIMEZONE
TZID:America/Denver
BEGIN:DAYLIGHT
TZOFFSETFROM:-0700
TZOFFSETTO:-0600
TZNAME:MDT
DTSTART:20240310T090000
END:DAYLIGHT
BEGIN:STANDARD
TZOFFSETFROM:-0600
TZOFFSETTO:-0700
TZNAME:MST
DTSTART:20241103T080000
END:STANDARD
BEGIN:DAYLIGHT
TZOFFSETFROM:-0700
TZOFFSETTO:-0600
TZNAME:MDT
DTSTART:20250309T090000
END:DAYLIGHT
BEGIN:STANDARD
TZOFFSETFROM:-0600
TZOFFSETTO:-0700
TZNAME:MST
DTSTART:20251102T080000
END:STANDARD
BEGIN:DAYLIGHT
TZOFFSETFROM:-0700
TZOFFSETTO:-0600
TZNAME:MDT
DTSTART:20260308T090000
END:DAYLIGHT
BEGIN:STANDARD
TZOFFSETFROM:-0600
TZOFFSETTO:-0700
TZNAME:MST
DTSTART:20261101T080000
END:STANDARD
END:VTIMEZONE
BEGIN:VTIMEZONE
TZID:UTC
BEGIN:STANDARD
TZOFFSETFROM:+0000
TZOFFSETTO:+0000
TZNAME:UTC
DTSTART:20240101T000000
END:STANDARD
END:VTIMEZONE
BEGIN:VEVENT
DTSTART;TZID=America/New_York:20250301T100000
DTEND;TZID=America/New_York:20250301T170000
DTSTAMP:20260424T100944
CREATED:20250123T224546Z
LAST-MODIFIED:20250123T224546Z
UID:7414-1740823200-1740848400@canadianrdn.ca
SUMMARY:RQMO 2025 International Rare Disease Day
DESCRIPTION:To celebrate International Rare Disease Day\, the RQMO is organizing an activity on March 1\, 2025 at the Sandman Hotel located at 999\, rue de Sérigny in Longueuil. \nThe event will take place from 10 a.m. to 3 p.m. and will be followed by a networking cocktail from 3 p.m. to 5 p.m. \nThe activity will be presented in hybrid\, you will have the possibility to attend in person or by zoom. \n 
URL:https://canadianrdn.ca/event/rqmo-2025-international-rare-disease-day/
CATEGORIES:Caregiver,Patient Focused,Research Focused,Virtual,Webinars
END:VEVENT
BEGIN:VEVENT
DTSTART;TZID=America/Denver:20250306T130000
DTEND;TZID=America/Denver:20250306T140000
DTSTAMP:20260424T100944
CREATED:20250225T041503Z
LAST-MODIFIED:20250225T041853Z
UID:7563-1741266000-1741269600@canadianrdn.ca
SUMMARY:ALS Clinical Trials Unboxed
DESCRIPTION:Join ALS Canada\, on March 6 at 1:00 pm ET\, for ALS Clinical Trials Unboxed. In this webinar\, Dr. Lauren Kett\, Medical Director of Clinical Development at Amylyx Pharmaceuticals will present on the Phase 1 LUMINA study\, an investigational antisense oligonucleotide (ASO) targeting calpain-2 for the potential treatment of ALS.
URL:https://canadianrdn.ca/event/als-clinical-trials-unboxed-2/
CATEGORIES:Caregiver,Clinical Trials,National,Patient Focused,Research Focused,Virtual,Webinars
END:VEVENT
BEGIN:VEVENT
DTSTART;TZID=UTC:20250327T100000
DTEND;TZID=UTC:20250327T110000
DTSTAMP:20260424T100944
CREATED:20250318T022619Z
LAST-MODIFIED:20250318T022619Z
UID:7711-1743069600-1743073200@canadianrdn.ca
SUMMARY:Dragon Claw Friends Webinar - Breaking Down Barriers – Are Patients Aware of Their Autoimmune Disease Treatment Options?
DESCRIPTION:Despite significant advancements in the treatment of autoimmune diseases\, many patients remain unaware of their options. Social media platforms are filled with stories of people struggling with uncontrolled symptoms—so why aren’t these breakthroughs reaching those who need them most? To explore this issue\, Dragon Claw Charity Australia\, in collaboration with CaPPRe\, has conducted research into the awareness gap among patients with rheumatology\, dermatology\, and gastroenterology-related autoimmune diseases.
URL:https://canadianrdn.ca/event/dragon-claw-friends-webinar-breaking-down-barriers-are-patients-aware-of-their-autoimmune-disease-treatment-options/
CATEGORIES:Caregiver,Healthcare,International,Patient Focused,Research Focused,Virtual,Webinars
ATTACH;FMTTYPE=image/jpeg:https://canadianrdn.ca/wp-content/uploads/2025/03/1742149835460.jpg
END:VEVENT
BEGIN:VEVENT
DTSTART;TZID=America/New_York:20250331T083000
DTEND;TZID=America/New_York:20250331T093000
DTSTAMP:20260424T100944
CREATED:20250326T033117Z
LAST-MODIFIED:20250326T033117Z
UID:7829-1743409800-1743413400@canadianrdn.ca
SUMMARY:Understanding what matters to children and families: The socioeconomic impact of childhood arthritis
DESCRIPTION:This presentation will share findings from the Health Economics research lead by\nDr. Marshall as part of the international UCAN CAN-DU and CURE research program\non childhood arthritis.
URL:https://canadianrdn.ca/event/understanding-what-matters-to-children-and-families-the-socioeconomic-impact-of-childhood-arthritis/
CATEGORIES:Caregiver,Healthcare,Patient Focused,Provincial,Research Focused,Virtual,Webinars
END:VEVENT
END:VCALENDAR