BEGIN:VCALENDAR
VERSION:2.0
PRODID:-//Canadian Rare Disease Network - ECPv6.15.20//NONSGML v1.0//EN
CALSCALE:GREGORIAN
METHOD:PUBLISH
X-WR-CALNAME:Canadian Rare Disease Network
X-ORIGINAL-URL:https://canadianrdn.ca
X-WR-CALDESC:Events for Canadian Rare Disease Network
REFRESH-INTERVAL;VALUE=DURATION:PT1H
X-Robots-Tag:noindex
X-PUBLISHED-TTL:PT1H
BEGIN:VTIMEZONE
TZID:America/Chicago
BEGIN:DAYLIGHT
TZOFFSETFROM:-0600
TZOFFSETTO:-0500
TZNAME:CDT
DTSTART:20230312T080000
END:DAYLIGHT
BEGIN:STANDARD
TZOFFSETFROM:-0500
TZOFFSETTO:-0600
TZNAME:CST
DTSTART:20231105T070000
END:STANDARD
BEGIN:DAYLIGHT
TZOFFSETFROM:-0600
TZOFFSETTO:-0500
TZNAME:CDT
DTSTART:20240310T080000
END:DAYLIGHT
BEGIN:STANDARD
TZOFFSETFROM:-0500
TZOFFSETTO:-0600
TZNAME:CST
DTSTART:20241103T070000
END:STANDARD
BEGIN:DAYLIGHT
TZOFFSETFROM:-0600
TZOFFSETTO:-0500
TZNAME:CDT
DTSTART:20250309T080000
END:DAYLIGHT
BEGIN:STANDARD
TZOFFSETFROM:-0500
TZOFFSETTO:-0600
TZNAME:CST
DTSTART:20251102T070000
END:STANDARD
END:VTIMEZONE
BEGIN:VTIMEZONE
TZID:America/St_Johns
BEGIN:DAYLIGHT
TZOFFSETFROM:-0330
TZOFFSETTO:-0230
TZNAME:NDT
DTSTART:20230312T053000
END:DAYLIGHT
BEGIN:STANDARD
TZOFFSETFROM:-0230
TZOFFSETTO:-0330
TZNAME:NST
DTSTART:20231105T043000
END:STANDARD
BEGIN:DAYLIGHT
TZOFFSETFROM:-0330
TZOFFSETTO:-0230
TZNAME:NDT
DTSTART:20240310T053000
END:DAYLIGHT
BEGIN:STANDARD
TZOFFSETFROM:-0230
TZOFFSETTO:-0330
TZNAME:NST
DTSTART:20241103T043000
END:STANDARD
BEGIN:DAYLIGHT
TZOFFSETFROM:-0330
TZOFFSETTO:-0230
TZNAME:NDT
DTSTART:20250309T053000
END:DAYLIGHT
BEGIN:STANDARD
TZOFFSETFROM:-0230
TZOFFSETTO:-0330
TZNAME:NST
DTSTART:20251102T043000
END:STANDARD
END:VTIMEZONE
BEGIN:VTIMEZONE
TZID:Europe/Paris
BEGIN:DAYLIGHT
TZOFFSETFROM:+0100
TZOFFSETTO:+0200
TZNAME:CEST
DTSTART:20230326T010000
END:DAYLIGHT
BEGIN:STANDARD
TZOFFSETFROM:+0200
TZOFFSETTO:+0100
TZNAME:CET
DTSTART:20231029T010000
END:STANDARD
BEGIN:DAYLIGHT
TZOFFSETFROM:+0100
TZOFFSETTO:+0200
TZNAME:CEST
DTSTART:20240331T010000
END:DAYLIGHT
BEGIN:STANDARD
TZOFFSETFROM:+0200
TZOFFSETTO:+0100
TZNAME:CET
DTSTART:20241027T010000
END:STANDARD
BEGIN:DAYLIGHT
TZOFFSETFROM:+0100
TZOFFSETTO:+0200
TZNAME:CEST
DTSTART:20250330T010000
END:DAYLIGHT
BEGIN:STANDARD
TZOFFSETFROM:+0200
TZOFFSETTO:+0100
TZNAME:CET
DTSTART:20251026T010000
END:STANDARD
END:VTIMEZONE
BEGIN:VTIMEZONE
TZID:UTC
BEGIN:STANDARD
TZOFFSETFROM:+0000
TZOFFSETTO:+0000
TZNAME:UTC
DTSTART:20230101T000000
END:STANDARD
END:VTIMEZONE
BEGIN:VTIMEZONE
TZID:America/Denver
BEGIN:DAYLIGHT
TZOFFSETFROM:-0700
TZOFFSETTO:-0600
TZNAME:MDT
DTSTART:20230312T090000
END:DAYLIGHT
BEGIN:STANDARD
TZOFFSETFROM:-0600
TZOFFSETTO:-0700
TZNAME:MST
DTSTART:20231105T080000
END:STANDARD
BEGIN:DAYLIGHT
TZOFFSETFROM:-0700
TZOFFSETTO:-0600
TZNAME:MDT
DTSTART:20240310T090000
END:DAYLIGHT
BEGIN:STANDARD
TZOFFSETFROM:-0600
TZOFFSETTO:-0700
TZNAME:MST
DTSTART:20241103T080000
END:STANDARD
BEGIN:DAYLIGHT
TZOFFSETFROM:-0700
TZOFFSETTO:-0600
TZNAME:MDT
DTSTART:20250309T090000
END:DAYLIGHT
BEGIN:STANDARD
TZOFFSETFROM:-0600
TZOFFSETTO:-0700
TZNAME:MST
DTSTART:20251102T080000
END:STANDARD
END:VTIMEZONE
BEGIN:VEVENT
DTSTART;TZID=America/Chicago:20241008T080000
DTEND;TZID=America/Chicago:20241008T170000
DTSTAMP:20260424T180942
CREATED:20240917T220608Z
LAST-MODIFIED:20240917T220608Z
UID:5826-1728374400-1728406800@canadianrdn.ca
SUMMARY:PxP Webinar 3 2024: Different opportunities to engage as a patient partner
DESCRIPTION:The webinar series is all about patient engagement in health research\, also known as patient and public involvement (UK) or consumer involvement (Australia). It is worth mentioning that ‘patient engagement’ in health research is distinctly different from signing up to be a research participant. Taking part in a study as a participant (for example trying a new treatment or management program) can be a great way to help advance healthcare\, but the role would not generally include giving input into the research study itself.
URL:https://canadianrdn.ca/event/pxp-webinar-3-2024-different-opportunities-to-engage-as-a-patient-partner/
CATEGORIES:Caregiver,Patient Focused,Virtual,Webinars
END:VEVENT
BEGIN:VEVENT
DTSTART;TZID=America/Chicago:20241008T120000
DTEND;TZID=America/Chicago:20241008T130000
DTSTAMP:20260424T180942
CREATED:20241001T220753Z
LAST-MODIFIED:20241001T220753Z
UID:5948-1728388800-1728392400@canadianrdn.ca
SUMMARY:Understanding the importance of the social determinants of health for children and youth with disabilities
DESCRIPTION:
URL:https://canadianrdn.ca/event/understanding-the-importance-of-the-social-determinants-of-health-for-children-and-youth-with-disabilities/
CATEGORIES:Caregiver,Patient Focused,Research Focused,Virtual,Webinars
END:VEVENT
BEGIN:VEVENT
DTSTART;TZID=America/Chicago:20241016T150000
DTEND;TZID=America/Chicago:20241016T160000
DTSTAMP:20260424T180942
CREATED:20241001T220430Z
LAST-MODIFIED:20241001T220430Z
UID:5945-1729090800-1729094400@canadianrdn.ca
SUMMARY:Supporting the Mental Health Needs of Rare Disease Patients\, Families\, and Communities
DESCRIPTION:During this session\, Dr. Al Freedman will provide tools and resources for supporting the mental health needs of rare disease patients\, families and communities.
URL:https://canadianrdn.ca/event/supporting-the-mental-health-needs-of-rare-disease-patients-families-and-communities/
CATEGORIES:Caregiver,Patient Focused,Research Focused,Virtual,Webinars
END:VEVENT
BEGIN:VEVENT
DTSTART;TZID=America/St_Johns:20241020T080000
DTEND;TZID=America/St_Johns:20241022T210000
DTSTAMP:20260424T180942
CREATED:20240730T202537Z
LAST-MODIFIED:20240730T202537Z
UID:4890-1729411200-1729630800@canadianrdn.ca
SUMMARY:#ChildHealthCan2024
DESCRIPTION:Children’s Healthcare Canada and co-hosts\, the Janeway Children’s Hospital Foundation and NL Health Services\, invite you to join us in picturesque Newfoundland and Labrador from October 20-22\, at the St. John’s Convention Centre for their 2024 Annual Conference\, Right-Sizing Health Systems for Kids: Navigating to Brighter Futures. For those unable to attend in person\, a real-time virtual option will also be available. \nChildren’s Healthcare Canada is on a mission to Right-Size Child Healthcare Systems. In 2024\, they will explore how to pave the way for brighter futures for children\, youth\, and families within the healthcare systems. Through the collective efforts of their members\, strategic partners\, and sponsors\, they are dedicated to ensuring that all children and youth in Canada have access to the healthcare services they require in a timely manner. \nWe are thrilled to share that we will be hosting another conference in the Spring of 2025\, giving attendees the opportunity to engage in two conferences within a six-month period! \nJoin us at our upcoming conferences in October 2024 and 2025 as they delve into the concept of right-sizing health systems. Together\, they will discuss what it takes to establish a flexible and responsive system that meets the unique needs of children and youth\, ultimately leading to improved outcomes for all. \nDon’t miss the opportunity to contribute to the conversation on shaping a better future for the health and well-being of our youngest generation. They eagerly anticipate welcoming you to St. John’s\, Newfoundland and Labrador\, as we work towards a brighter tomorrow for our children and families.
URL:https://canadianrdn.ca/event/childhealthcan2024/
LOCATION:St.Johns\, Newfoundland\, 50 New Gower Street\, St.Johns\, Newfoundland\, A1C 1J3\, Canada
CATEGORIES:Caregiver,Conferences,Hybrid,In Person,Patient Focused,Provincial,Research Focused
END:VEVENT
BEGIN:VEVENT
DTSTART;TZID=Europe/Paris:20241023T140000
DTEND;TZID=Europe/Paris:20241023T153000
DTSTAMP:20260424T180942
CREATED:20240819T214318Z
LAST-MODIFIED:20240819T214318Z
UID:5213-1729692000-1729697400@canadianrdn.ca
SUMMARY:EURORDIS Mental Health & Wellbeing Open Webinar
DESCRIPTION:
URL:https://canadianrdn.ca/event/eurordis-mental-health-wellbeing-open-webinar/
CATEGORIES:Caregiver,Patient Focused,Virtual,Webinars
END:VEVENT
BEGIN:VEVENT
DTSTART;TZID=UTC:20241024T080000
DTEND;TZID=UTC:20241025T170000
DTSTAMP:20260424T180942
CREATED:20240809T212727Z
LAST-MODIFIED:20241004T014606Z
UID:5097-1729756800-1729875600@canadianrdn.ca
SUMMARY:The 4th Annual Canadian Children\, Youth and Communities (CCYC) Health In | Equity Conference
DESCRIPTION:The Canadian Children\, Youth and Communities (CCYC) In | Equity Conference is an interdisciplinary conference designed to bring together pediatric health and allied health care professionals to address health care inequities from birth to adolescence using a family-centred approach. \nThis conference explores health equity topics specific to marginalized communities in the Canadian health care system and offers approaches that can be implemented to address barriers in accessing healthcare for under serviced\, high-risk and economically disadvantaged children and youth.
URL:https://canadianrdn.ca/event/the-4th-annual-canadian-children-youth-and-communities-ccyc-health-in-equity-conference/
CATEGORIES:Caregiver,Conferences,National,Patient Focused,Research Focused,Virtual
END:VEVENT
BEGIN:VEVENT
DTSTART;TZID=America/Chicago:20241024T130000
DTEND;TZID=America/Chicago:20241024T140000
DTSTAMP:20260424T180942
CREATED:20241004T221032Z
LAST-MODIFIED:20241004T221032Z
UID:6029-1729774800-1729778400@canadianrdn.ca
SUMMARY:Epilepsy Treatments in Rett Syndrome
DESCRIPTION:The International Rett Syndrome Foundation (IRSF) invites you to this live RettEd session with a goal of educating families on an approach to the treatment of epilepsy in Rett syndrome
URL:https://canadianrdn.ca/event/epilepsy-treatments-in-rett-syndrome/
CATEGORIES:Caregiver,Patient Focused,Research Focused,Virtual,Webinars
END:VEVENT
BEGIN:VEVENT
DTSTART;TZID=America/Chicago:20241026T090000
DTEND;TZID=America/Chicago:20241026T100000
DTSTAMP:20260424T180942
CREATED:20240924T223454Z
LAST-MODIFIED:20240924T223454Z
UID:5924-1729933200-1729936800@canadianrdn.ca
SUMMARY:L4L Session: Sickle Cell Disease and Complications including Stroke
DESCRIPTION:The SCAGO is excited to announce the October Learning for Life session “Sickle Cell Disease and Complications including Stroke” slated for Sat. October 26th! Attendees will leave the session with a rich knowledge of how to prevent complications of Sickle Cell Disease and improve their health outcomes.
URL:https://canadianrdn.ca/event/l4l-session-sickle-cell-disease-and-complications-including-stroke/
CATEGORIES:Caregiver,Patient Focused,Research Focused,Virtual,Webinars
END:VEVENT
BEGIN:VEVENT
DTSTART;TZID=America/Denver:20241031T120000
DTEND;TZID=America/Denver:20241031T130000
DTSTAMP:20260424T180942
CREATED:20240828T231253Z
LAST-MODIFIED:20240828T231253Z
UID:5502-1730376000-1730379600@canadianrdn.ca
SUMMARY:CRDN Townhall – An Update on the Co-Development of our Strategic Plan
DESCRIPTION:Join the Canadian Rare Disease Network (CRDN) – Réseau Canadien des Maladies Rares – for a dynamic townhall to engage with thought leaders\, experts\, and the rare disease community as we explore and shape the future of rare disease care and research in Canada. This townhall will provide an overview of the CRDN and its draft strategic plan. Following the presentation\, there will be an opportunity to ask questions and contribute to the co-development of CRDN’s strategic plan. Whether you are a patient\, caregiver\, researcher\, healthcare provider\, advocate\, or other member of the rare disease community\, your voice is vital in building a more integrated\, inclusive\, and compassionate approach to rare disease care and research in Canada. Register now to be part of this conversation!
URL:https://canadianrdn.ca/event/crdn-townhall-an-update-on-the-co-development-of-our-strategic-plan/
CATEGORIES:Caregiver,Events,National,Patient Focused,Policy,Provincial,Research Focused,Virtual
ATTACH;FMTTYPE=image/png:https://canadianrdn.ca/wp-content/uploads/2024/08/Town-Hall-Eng.png
END:VEVENT
END:VCALENDAR