BEGIN:VCALENDAR
VERSION:2.0
PRODID:-//Canadian Rare Disease Network - ECPv6.15.20//NONSGML v1.0//EN
CALSCALE:GREGORIAN
METHOD:PUBLISH
X-WR-CALNAME:Canadian Rare Disease Network
X-ORIGINAL-URL:https://canadianrdn.ca
X-WR-CALDESC:Events for Canadian Rare Disease Network
REFRESH-INTERVAL;VALUE=DURATION:PT1H
X-Robots-Tag:noindex
X-PUBLISHED-TTL:PT1H
BEGIN:VTIMEZONE
TZID:UTC
BEGIN:STANDARD
TZOFFSETFROM:+0000
TZOFFSETTO:+0000
TZNAME:UTC
DTSTART:20230101T000000
END:STANDARD
END:VTIMEZONE
BEGIN:VTIMEZONE
TZID:America/Chicago
BEGIN:DAYLIGHT
TZOFFSETFROM:-0600
TZOFFSETTO:-0500
TZNAME:CDT
DTSTART:20230312T080000
END:DAYLIGHT
BEGIN:STANDARD
TZOFFSETFROM:-0500
TZOFFSETTO:-0600
TZNAME:CST
DTSTART:20231105T070000
END:STANDARD
BEGIN:DAYLIGHT
TZOFFSETFROM:-0600
TZOFFSETTO:-0500
TZNAME:CDT
DTSTART:20240310T080000
END:DAYLIGHT
BEGIN:STANDARD
TZOFFSETFROM:-0500
TZOFFSETTO:-0600
TZNAME:CST
DTSTART:20241103T070000
END:STANDARD
BEGIN:DAYLIGHT
TZOFFSETFROM:-0600
TZOFFSETTO:-0500
TZNAME:CDT
DTSTART:20250309T080000
END:DAYLIGHT
BEGIN:STANDARD
TZOFFSETFROM:-0500
TZOFFSETTO:-0600
TZNAME:CST
DTSTART:20251102T070000
END:STANDARD
END:VTIMEZONE
BEGIN:VTIMEZONE
TZID:America/Denver
BEGIN:DAYLIGHT
TZOFFSETFROM:-0700
TZOFFSETTO:-0600
TZNAME:MDT
DTSTART:20230312T090000
END:DAYLIGHT
BEGIN:STANDARD
TZOFFSETFROM:-0600
TZOFFSETTO:-0700
TZNAME:MST
DTSTART:20231105T080000
END:STANDARD
BEGIN:DAYLIGHT
TZOFFSETFROM:-0700
TZOFFSETTO:-0600
TZNAME:MDT
DTSTART:20240310T090000
END:DAYLIGHT
BEGIN:STANDARD
TZOFFSETFROM:-0600
TZOFFSETTO:-0700
TZNAME:MST
DTSTART:20241103T080000
END:STANDARD
BEGIN:DAYLIGHT
TZOFFSETFROM:-0700
TZOFFSETTO:-0600
TZNAME:MDT
DTSTART:20250309T090000
END:DAYLIGHT
BEGIN:STANDARD
TZOFFSETFROM:-0600
TZOFFSETTO:-0700
TZNAME:MST
DTSTART:20251102T080000
END:STANDARD
END:VTIMEZONE
BEGIN:VEVENT
DTSTART;TZID=UTC:20240910T080000
DTEND;TZID=UTC:20240912T170000
DTSTAMP:20260424T195532
CREATED:20240730T203040Z
LAST-MODIFIED:20240730T203040Z
UID:4894-1725955200-1726160400@canadianrdn.ca
SUMMARY:PxP 2024 Conference (For Patients\, By Patients)
DESCRIPTION:Standing for ‘For Patients\, By Patients’\, PxP 2024 is entirely led by an international team of patient and public partners and is a Patients Included™ event. Our purpose is to share resources\, mentorship and community with patient partners and others involved in health research. Ultimately\, our goal is partnering to make research stronger. \nThis free\, virtual event aims to bring you a wealth of knowledge\, skills and resources on patient engagement in health research. Patient engagement in health research\, also known as patient and public involvement (in the UK) or consumer involvement (in Australia). ‘Patient engagement’ in health research is where patients are research team members. This is different from volunteering to be a research participant where you might help advance research or healthcare\, but a research participant generally does not give input into the research study itself. Whatever language you prefer\, we warmly welcome everyone to attend.
URL:https://canadianrdn.ca/event/pxp-2024-conference-for-patients-by-patients/
CATEGORIES:Caregiver,Conferences,Healthcare,Patient Focused,Research Focused,Virtual
END:VEVENT
BEGIN:VEVENT
DTSTART;TZID=America/Chicago:20240918T100000
DTEND;TZID=America/Chicago:20240918T110000
DTSTAMP:20260424T195532
CREATED:20240823T210648Z
LAST-MODIFIED:20240823T210648Z
UID:5366-1726653600-1726657200@canadianrdn.ca
SUMMARY:RITA Patient-Centered: Risk of Infection and Immunological Rare Diseases
DESCRIPTION:Join the webinar “Risk of Infection and Immunological Rare Diseases\,” featuring Dr. Laia Alsina\, MD\, PhD\, Chief of the Clinical Immunology and Primary Immunodeficiencies Reference Unit at Hospital Sant Joan de Déu\, Barcelona. This patient-centered webinar\, organised by RITA\, is part of a new series led by Education WG Chair Jordi Anton\, alongside Savino Sciascia and RITA patient groups. Discover insights into the latest research and clinical practices for managing rare immunological conditions.
URL:https://canadianrdn.ca/event/rita-patient-centered-risk-of-infection-and-immunological-rare-diseases/
CATEGORIES:Caregiver,Events,Patient Focused,Research Focused,Virtual,Webinars
END:VEVENT
BEGIN:VEVENT
DTSTART;TZID=America/Denver:20240919T100000
DTEND;TZID=America/Denver:20240919T113000
DTSTAMP:20260424T195532
CREATED:20240830T231126Z
LAST-MODIFIED:20240830T231126Z
UID:5527-1726740000-1726745400@canadianrdn.ca
SUMMARY:IPNA Webinar: Chronic kidney disease care in low resource settings: Can we make it a smooth ride for children?
DESCRIPTION:The webinar will discuss the challenges and barriers to optimal pediatric CKD care in low-resource settings and invite experts to discuss potential solutions to address the inequities in care. The webinar will discuss patient and family perspectives and the need for support.
URL:https://canadianrdn.ca/event/ipna-webinar-chronic-kidney-disease-care-in-low-resource-settings-can-we-make-it-a-smooth-ride-for-children/
CATEGORIES:Caregiver,Patient Focused,Research Focused,Virtual,Webinars
END:VEVENT
END:VCALENDAR