BEGIN:VCALENDAR
VERSION:2.0
PRODID:-//Canadian Rare Disease Network - ECPv6.15.20//NONSGML v1.0//EN
CALSCALE:GREGORIAN
METHOD:PUBLISH
X-ORIGINAL-URL:https://canadianrdn.ca
X-WR-CALDESC:Events for Canadian Rare Disease Network
REFRESH-INTERVAL;VALUE=DURATION:PT1H
X-Robots-Tag:noindex
X-PUBLISHED-TTL:PT1H
BEGIN:VTIMEZONE
TZID:America/Chicago
BEGIN:DAYLIGHT
TZOFFSETFROM:-0600
TZOFFSETTO:-0500
TZNAME:CDT
DTSTART:20230312T080000
END:DAYLIGHT
BEGIN:STANDARD
TZOFFSETFROM:-0500
TZOFFSETTO:-0600
TZNAME:CST
DTSTART:20231105T070000
END:STANDARD
BEGIN:DAYLIGHT
TZOFFSETFROM:-0600
TZOFFSETTO:-0500
TZNAME:CDT
DTSTART:20240310T080000
END:DAYLIGHT
BEGIN:STANDARD
TZOFFSETFROM:-0500
TZOFFSETTO:-0600
TZNAME:CST
DTSTART:20241103T070000
END:STANDARD
BEGIN:DAYLIGHT
TZOFFSETFROM:-0600
TZOFFSETTO:-0500
TZNAME:CDT
DTSTART:20250309T080000
END:DAYLIGHT
BEGIN:STANDARD
TZOFFSETFROM:-0500
TZOFFSETTO:-0600
TZNAME:CST
DTSTART:20251102T070000
END:STANDARD
END:VTIMEZONE
BEGIN:VTIMEZONE
TZID:America/New_York
BEGIN:DAYLIGHT
TZOFFSETFROM:-0500
TZOFFSETTO:-0400
TZNAME:EDT
DTSTART:20230312T070000
END:DAYLIGHT
BEGIN:STANDARD
TZOFFSETFROM:-0400
TZOFFSETTO:-0500
TZNAME:EST
DTSTART:20231105T060000
END:STANDARD
BEGIN:DAYLIGHT
TZOFFSETFROM:-0500
TZOFFSETTO:-0400
TZNAME:EDT
DTSTART:20240310T070000
END:DAYLIGHT
BEGIN:STANDARD
TZOFFSETFROM:-0400
TZOFFSETTO:-0500
TZNAME:EST
DTSTART:20241103T060000
END:STANDARD
BEGIN:DAYLIGHT
TZOFFSETFROM:-0500
TZOFFSETTO:-0400
TZNAME:EDT
DTSTART:20250309T070000
END:DAYLIGHT
BEGIN:STANDARD
TZOFFSETFROM:-0400
TZOFFSETTO:-0500
TZNAME:EST
DTSTART:20251102T060000
END:STANDARD
END:VTIMEZONE
BEGIN:VTIMEZONE
TZID:UTC
BEGIN:STANDARD
TZOFFSETFROM:+0000
TZOFFSETTO:+0000
TZNAME:UTC
DTSTART:20230101T000000
END:STANDARD
END:VTIMEZONE
BEGIN:VTIMEZONE
TZID:Europe/Helsinki
BEGIN:DAYLIGHT
TZOFFSETFROM:+0200
TZOFFSETTO:+0300
TZNAME:EEST
DTSTART:20230326T010000
END:DAYLIGHT
BEGIN:STANDARD
TZOFFSETFROM:+0300
TZOFFSETTO:+0200
TZNAME:EET
DTSTART:20231029T010000
END:STANDARD
BEGIN:DAYLIGHT
TZOFFSETFROM:+0200
TZOFFSETTO:+0300
TZNAME:EEST
DTSTART:20240331T010000
END:DAYLIGHT
BEGIN:STANDARD
TZOFFSETFROM:+0300
TZOFFSETTO:+0200
TZNAME:EET
DTSTART:20241027T010000
END:STANDARD
BEGIN:DAYLIGHT
TZOFFSETFROM:+0200
TZOFFSETTO:+0300
TZNAME:EEST
DTSTART:20250330T010000
END:DAYLIGHT
BEGIN:STANDARD
TZOFFSETFROM:+0300
TZOFFSETTO:+0200
TZNAME:EET
DTSTART:20251026T010000
END:STANDARD
END:VTIMEZONE
BEGIN:VEVENT
DTSTART;TZID=America/Chicago:20240815T150000
DTEND;TZID=America/Chicago:20240815T160000
DTSTAMP:20260424T213249
CREATED:20240807T015544Z
LAST-MODIFIED:20240807T015811Z
UID:4949-1723734000-1723737600@canadianrdn.ca
SUMMARY:Showing Up 101
DESCRIPTION:“Showing Up 101” is a gently guided\, grief informed experience intended to share a language of loss\, introduce frameworks for grieving and coping\, and promote openness and connection for moving with loss. The content is grounded in bereavement-science\, lived experience\, and movement-based practices for regulating ourselves. In this 60 minute session\, participants will feel equipped and empowered to integrate loss language in their lives\, to better communicate how they are feeling to themselves and others\, and to understand the power of community for sustaining the hardest\, most painful losses. The session is led by Myra Sack\, a bereaved mother who is also a Compassionate Bereavement Care Provider\, Founder of E-Motion\, Inc.\, and the author of Fifty-Seven Fridays: Losing Our Daughter\, Finding Our Way.
URL:https://canadianrdn.ca/event/showing-up-101/
CATEGORIES:Caregiver,Patient Focused,Virtual,Webinars
END:VEVENT
BEGIN:VEVENT
DTSTART;TZID=America/New_York:20240819T130000
DTEND;TZID=America/New_York:20240819T140000
DTSTAMP:20260424T213249
CREATED:20240819T212411Z
LAST-MODIFIED:20240819T212411Z
UID:5191-1724072400-1724076000@canadianrdn.ca
SUMMARY:Prioritizing Disability Inclusion in Health Research
DESCRIPTION:Join members of the CHILD-BRIGHT National Youth Advocacy Council on Aug. 19 at 1 p.m. ET/10 a.m. PT as they explore the crucial importance of including people with disabilities in health research focused on equity\, diversity\, inclusion\, decolonization\, and Indigenization (EDI-DI). They will define key concepts such as tokenism\, infantilization\, and non-inclusive environments\, leading to a discussion of why inclusion is essential and an overview of elements of inclusive research practice.
URL:https://canadianrdn.ca/event/prioritizing-disability-inclusion-in-health-research/
CATEGORIES:Caregiver,Events,Patient Focused,Virtual,Webinars
END:VEVENT
BEGIN:VEVENT
DTSTART;TZID=UTC:20240828T190000
DTEND;TZID=UTC:20240828T203000
DTSTAMP:20260424T213249
CREATED:20240801T205502Z
LAST-MODIFIED:20240801T205502Z
UID:4911-1724871600-1724877000@canadianrdn.ca
SUMMARY:Exploring the Brain – Advocating for Your Child with Disabilities
DESCRIPTION:Are you a parent\, caregiver or educator looking for ways to best support a child or children with disabilities? Join panelists for this upcoming webinar! They’ll cover crucial topics to help you advocate and achieve results for your child. Learn how to navigate the individualized education program (IEP) process effectively; foster a positive\, inclusive school experience; and find inclusive community activities and services. They’ll explore community and social opportunities to enhance your child’s development and discuss planning for a successful transition from school to adulthood. Don’t miss this chance to gain valuable insights and connect with experts dedicated to empowering you and your child.
URL:https://canadianrdn.ca/event/exploring-the-brain-advocating-for-your-child-with-disabilities/
CATEGORIES:Caregiver,Healthcare,Patient Focused,Virtual,Webinars
END:VEVENT
BEGIN:VEVENT
DTSTART;TZID=Europe/Helsinki:20240830T140000
DTEND;TZID=Europe/Helsinki:20240830T153000
DTSTAMP:20260424T213249
CREATED:20240819T212648Z
LAST-MODIFIED:20240819T212648Z
UID:5194-1725026400-1725031800@canadianrdn.ca
SUMMARY:WHA Resolution on Rare Diseases Webinar
DESCRIPTION:This year\, Rare Diseases International has begun advocating for the World Health Assembly to have a Resolution on Rare Diseases in 2025\, and we need your help to make it a success. This webinar\, co-hosted by RDI the Arab Republic of Egypt\, the State of Qatar\, and Spain will be an opportunity to explain in more detail the opportunities to improve the lives of persons living with a rare disease (PLWRD) and the need to make the Resolution a reality.
URL:https://canadianrdn.ca/event/wha-resolution-on-rare-diseases-webinar/
CATEGORIES:Caregiver,Events,International,Patient Focused,Research Focused,Virtual
END:VEVENT
END:VCALENDAR